BEGIN:VCALENDAR
VERSION:2.0
PRODID:-//hacksw/handcal//NONSGML v1.0//EN
CALSCALE:GREGORIAN
BEGIN:VTIMEZONE
TZID:Europe/Berlin
X-LIC-LOCATION:Europe/Berlin
BEGIN:DAYLIGHT
TZOFFSETFROM:+0100
TZOFFSETTO:+0200
TZNAME:CEST
DTSTART:19700329T020000
RRULE:FREQ=YEARLY;BYDAY=-1SU;BYMONTH=3
END:DAYLIGHT
BEGIN:STANDARD
TZOFFSETFROM:+0200
TZOFFSETTO:+0100
TZNAME:CET
DTSTART:19701025T030000
RRULE:FREQ=YEARLY;BYDAY=-1SU;BYMONTH=10
END:STANDARD
END:VTIMEZONE
BEGIN:VEVENT
DTEND;TZID=Europe/Berlin:20260825T191500
UID:69e657504e79f
DTSTAMP:20260420T184152
LOCATION:Bolzplatz Geltolfing
DESCRIPTION:Gemeinsam wird eine altersgemäße Choreographie zu einem modernen Lied einstudiert. \r\nDer Nachmittag wird durch Spiele und spielerische Übungen\, sowie eine Brotzeitpause aufgelockert. \r\n5 Minuten vor Ende des Kurses werden wir die erlernte Choreographie das letzte Mal gemeinsam tanzen. \r\nHierzu sind die Eltern/Geschwister/... eingeladen\, den Tänzer/innen zuzusehen.\r\n
URL;VALUE=URI:https://www.unser-ferienprogramm.de/vg-aiterhofen/veranstaltung.php?id=164861
SUMMARY:Tanz und Spiel 7-12 Jahre (7-jährige nur mit längerer Tanzerfahrung)
DTSTART;TZID=Europe/Berlin:20260825T151500
END:VEVENT

END:VCALENDAR
