BEGIN:VCALENDAR
VERSION:2.0
PRODID:-//hacksw/handcal//NONSGML v1.0//EN
CALSCALE:GREGORIAN
BEGIN:VTIMEZONE
TZID:Europe/Berlin
X-LIC-LOCATION:Europe/Berlin
BEGIN:DAYLIGHT
TZOFFSETFROM:+0100
TZOFFSETTO:+0200
TZNAME:CEST
DTSTART:19700329T020000
RRULE:FREQ=YEARLY;BYDAY=-1SU;BYMONTH=3
END:DAYLIGHT
BEGIN:STANDARD
TZOFFSETFROM:+0200
TZOFFSETTO:+0100
TZNAME:CET
DTSTART:19701025T030000
RRULE:FREQ=YEARLY;BYDAY=-1SU;BYMONTH=10
END:STANDARD
END:VTIMEZONE
BEGIN:VEVENT
DTEND;TZID=Europe/Berlin:20260825T150000
UID:69e65726a6bef
DTSTAMP:20260420T184110
LOCATION:Bolzplatz Geltolfing
DESCRIPTION:Gemeinsam wird eine altersgemäße Choreographie zu einem modernen Lied einstudiert. \r\nDer Nachmittag wird durch Spiele und spielerische Übungen\, sowie eine Brotzeitpause aufgelockert. 5 Minuten vor Ende des Kurses werden wir die erlernte Choreographie das letzte Mal gemeinsam tanzen. \r\nHierzu sind die Eltern/Geschwister/... eingeladen\, den Tänzer/innen zuzusehen.\r\n
URL;VALUE=URI:https://www.unser-ferienprogramm.de/vg-aiterhofen/veranstaltung.php?id=164612
SUMMARY:Tanz und Spiel 4-7 Jahre
DTSTART;TZID=Europe/Berlin:20260825T130000
END:VEVENT

END:VCALENDAR
