BEGIN:VCALENDAR
VERSION:2.0
PRODID:-//hacksw/handcal//NONSGML v1.0//EN
CALSCALE:GREGORIAN
BEGIN:VTIMEZONE
TZID:Europe/Berlin
X-LIC-LOCATION:Europe/Berlin
BEGIN:DAYLIGHT
TZOFFSETFROM:+0100
TZOFFSETTO:+0200
TZNAME:CEST
DTSTART:19700329T020000
RRULE:FREQ=YEARLY;BYDAY=-1SU;BYMONTH=3
END:DAYLIGHT
BEGIN:STANDARD
TZOFFSETFROM:+0200
TZOFFSETTO:+0100
TZNAME:CET
DTSTART:19701025T030000
RRULE:FREQ=YEARLY;BYDAY=-1SU;BYMONTH=10
END:STANDARD
END:VTIMEZONE
BEGIN:VEVENT
DTEND;TZID=Europe/Berlin:20260801T180000
UID:69e6572c488b8
DTSTAMP:20260420T184116
LOCATION:Feuerwehrgerätehaus Sand
DESCRIPTION:Nachdem du an verschiedenen Stationen einiges über die Feuerwehr und ihren Aufgaben erfährst\, geht es anschließend bei der Feuerwehr-Olympiade um Spaß und Geschicklichkeit. \r\n\r\nZum Schluss gibt es noch eine Brotzeit vom Grill. \r\n
URL;VALUE=URI:https://www.unser-ferienprogramm.de/vg-aiterhofen/veranstaltung.php?id=163974
SUMMARY:Spiel\, Spaß und Sport
DTSTART;TZID=Europe/Berlin:20260801T140000
END:VEVENT

END:VCALENDAR
