BEGIN:VCALENDAR
VERSION:2.0
PRODID:-//hacksw/handcal//NONSGML v1.0//EN
CALSCALE:GREGORIAN
BEGIN:VTIMEZONE
TZID:Europe/Berlin
X-LIC-LOCATION:Europe/Berlin
BEGIN:DAYLIGHT
TZOFFSETFROM:+0100
TZOFFSETTO:+0200
TZNAME:CEST
DTSTART:19700329T020000
RRULE:FREQ=YEARLY;BYDAY=-1SU;BYMONTH=3
END:DAYLIGHT
BEGIN:STANDARD
TZOFFSETFROM:+0200
TZOFFSETTO:+0100
TZNAME:CET
DTSTART:19701025T030000
RRULE:FREQ=YEARLY;BYDAY=-1SU;BYMONTH=10
END:STANDARD
END:VTIMEZONE
BEGIN:VEVENT
DTEND;TZID=Europe/Berlin:20260918T000000
UID:69e65750e3e9a
DTSTAMP:20260420T184152
LOCATION:Gemeindebücherei Salching
DESCRIPTION:Du möchtest in den Ferien die neusten Bücher lesen und damit auch noch etwas gewinnen? Dann nimm doch an unserem Sommerferien-Leseclub teil. Extra für die Sommerferien werden neue Bücher angeschafft\, die nur ihr lesen dürft. Und jedes gelesene Buch zählt als Los für unsere Abschluss-Tombola. Aber selbst\, wenn du dort nichts gewinnst - eine kleine Überraschung bekommt jeder Teilnehmer.\r\n
URL;VALUE=URI:https://www.unser-ferienprogramm.de/vg-aiterhofen/veranstaltung.php?id=163894
SUMMARY:Sommerferien-Leseclub
DTSTART;TZID=Europe/Berlin:20260731T000000
END:VEVENT

END:VCALENDAR
