BEGIN:VCALENDAR
VERSION:2.0
PRODID:-//hacksw/handcal//NONSGML v1.0//EN
CALSCALE:GREGORIAN
BEGIN:VTIMEZONE
TZID:Europe/Berlin
X-LIC-LOCATION:Europe/Berlin
BEGIN:DAYLIGHT
TZOFFSETFROM:+0100
TZOFFSETTO:+0200
TZNAME:CEST
DTSTART:19700329T020000
RRULE:FREQ=YEARLY;BYDAY=-1SU;BYMONTH=3
END:DAYLIGHT
BEGIN:STANDARD
TZOFFSETFROM:+0200
TZOFFSETTO:+0100
TZNAME:CET
DTSTART:19701025T030000
RRULE:FREQ=YEARLY;BYDAY=-1SU;BYMONTH=10
END:STANDARD
END:VTIMEZONE
BEGIN:VEVENT
DTEND;TZID=Europe/Berlin:20260402T163000
UID:69e55b4ee2848
DTSTAMP:20260420T004638
LOCATION:Kaltensteinhalle Vaihingen an der Enz
DESCRIPTION:Nur für Kinder ab Grundschulalter!\r\nKinder\, die noch in die Kita gehen\, werden zu diesem Angebot nicht zugelassen!\r\n\r\nIm Sport-Camp erwartet die Kinder ein vielseitiges und abwechslungsreiches Sportprogramm. Verschiedene Vereine bieten altersgerechte Einblicke in ihre Sportarten\, die durch erlebnispädagogische und kreative Angebote der Kinder- und Jugendarbeit ergänzt werden.\r\n\r\nDas Sport-Camp beginnt um 09:30 Uhr und endet um 16:30 Uhr.\r\nFür berufstätige Eltern gibt es eine Frühbetreuung ab 08:00 Uhr. Dafür fällt eine Zusatzgebühr von 20€ für die gesamte Woche an.\r\n\r\nAnmeldezeitraum: 02.02.-05.03.2026\r\n
URL;VALUE=URI:https://www.unser-ferienprogramm.de/vaihingen/veranstaltung.php?id=298709
SUMMARY:Sport-Camp
DTSTART;TZID=Europe/Berlin:20260330T093000
END:VEVENT

END:VCALENDAR
