BEGIN:VCALENDAR
VERSION:2.0
PRODID:-//hacksw/handcal//NONSGML v1.0//EN
CALSCALE:GREGORIAN
BEGIN:VTIMEZONE
TZID:Europe/Berlin
X-LIC-LOCATION:Europe/Berlin
BEGIN:DAYLIGHT
TZOFFSETFROM:+0100
TZOFFSETTO:+0200
TZNAME:CEST
DTSTART:19700329T020000
RRULE:FREQ=YEARLY;BYDAY=-1SU;BYMONTH=3
END:DAYLIGHT
BEGIN:STANDARD
TZOFFSETFROM:+0200
TZOFFSETTO:+0100
TZNAME:CET
DTSTART:19701025T030000
RRULE:FREQ=YEARLY;BYDAY=-1SU;BYMONTH=10
END:STANDARD
END:VTIMEZONE
BEGIN:VEVENT
DTEND;TZID=Europe/Berlin:20260803T163000
UID:69e52a91d716b
DTSTAMP:20260419T211841
LOCATION:Kleinglattbach (Im See 6\, 71665 Vaihingen an der Enz)
DESCRIPTION:Mini Vaihingen: Kinderspielstadt für 7- bis 13-Jährige - der Grundschulbesuch wird vorausgesetzt. Kinder\, die noch in die Kita gehen\, werden zu diesen beiden Angeboten nicht zugelassen.\r\n\r\nEine Stadt in der man arbeiten\, spielen und mitbestimmen kann!\r\nDer erste Weg ist zum Bürgeramt. Dort bekommen die Kinder ihren persönlichen Ausweis und einen Einreisestempel. Dann findet eine Versammlung mit allen Bürger*innen von Mini-Vaihingen statt. Danach können die Kinder sich auf dem Arbeitsamt einen Job vermitteln lassen. Sie können alles werden - von der Bankdirektorin bis zur Müllfrau\, vom Postboten bis zum rasenden Reporter. Auch für die Eltern gibt es etwas ganz Besonderes: Stadtführungen durch Mini-Vaihingen und Bewirtung im Elterngarten!\r\n\r\nDie Kinderspielstadt öffnet von Montag\, 03.08.2026 bis Freitag\, 07.08.2026 von 09:00 bis 16:30 Uhr.\r\nFür berufstätige Eltern gibt es eine Frühbetreuung ab 08:00 Uhr. Dafür fällt eine Zusatzgebühr von 25 € pro Woche an.\r\n\r\nLassen Sie Ihr Kind Teil dieser spannenden Welt werden.\r\n\r\nAnmeldezeitraum: 02.02.2026 bis 05.03.2026.\r\n\r\n
URL;VALUE=URI:https://www.unser-ferienprogramm.de/vaihingen/veranstaltung.php?id=295725
SUMMARY:Kinderspielstadt Mini-Vaihingen Woche 1
DTSTART;TZID=Europe/Berlin:20260803T090000
END:VEVENT


BEGIN:VEVENT
DTEND;TZID=Europe/Berlin:20260804T163000
UID:69e52a91d71af1
DTSTAMP:20260419T211841
LOCATION:Kleinglattbach (Im See 6\, 71665 Vaihingen an der Enz)
DESCRIPTION:Mini Vaihingen: Kinderspielstadt für 7- bis 13-Jährige - der Grundschulbesuch wird vorausgesetzt. Kinder\, die noch in die Kita gehen\, werden zu diesen beiden Angeboten nicht zugelassen.\r\n\r\nEine Stadt in der man arbeiten\, spielen und mitbestimmen kann!\r\nDer erste Weg ist zum Bürgeramt. Dort bekommen die Kinder ihren persönlichen Ausweis und einen Einreisestempel. Dann findet eine Versammlung mit allen Bürger*innen von Mini-Vaihingen statt. Danach können die Kinder sich auf dem Arbeitsamt einen Job vermitteln lassen. Sie können alles werden - von der Bankdirektorin bis zur Müllfrau\, vom Postboten bis zum rasenden Reporter. Auch für die Eltern gibt es etwas ganz Besonderes: Stadtführungen durch Mini-Vaihingen und Bewirtung im Elterngarten!\r\n\r\nDie Kinderspielstadt öffnet von Montag\, 03.08.2026 bis Freitag\, 07.08.2026 von 09:00 bis 16:30 Uhr.\r\nFür berufstätige Eltern gibt es eine Frühbetreuung ab 08:00 Uhr. Dafür fällt eine Zusatzgebühr von 25 € pro Woche an.\r\n\r\nLassen Sie Ihr Kind Teil dieser spannenden Welt werden.\r\n\r\nAnmeldezeitraum: 02.02.2026 bis 05.03.2026.\r\n\r\n
URL;VALUE=URI:https://www.unser-ferienprogramm.de/vaihingen/veranstaltung.php?id=295725
SUMMARY:Kinderspielstadt Mini-Vaihingen Woche 1
DTSTART;TZID=Europe/Berlin:20260804T090000
END:VEVENT


BEGIN:VEVENT
DTEND;TZID=Europe/Berlin:20260805T163000
UID:69e52a91d71c22
DTSTAMP:20260419T211841
LOCATION:Kleinglattbach (Im See 6\, 71665 Vaihingen an der Enz)
DESCRIPTION:Mini Vaihingen: Kinderspielstadt für 7- bis 13-Jährige - der Grundschulbesuch wird vorausgesetzt. Kinder\, die noch in die Kita gehen\, werden zu diesen beiden Angeboten nicht zugelassen.\r\n\r\nEine Stadt in der man arbeiten\, spielen und mitbestimmen kann!\r\nDer erste Weg ist zum Bürgeramt. Dort bekommen die Kinder ihren persönlichen Ausweis und einen Einreisestempel. Dann findet eine Versammlung mit allen Bürger*innen von Mini-Vaihingen statt. Danach können die Kinder sich auf dem Arbeitsamt einen Job vermitteln lassen. Sie können alles werden - von der Bankdirektorin bis zur Müllfrau\, vom Postboten bis zum rasenden Reporter. Auch für die Eltern gibt es etwas ganz Besonderes: Stadtführungen durch Mini-Vaihingen und Bewirtung im Elterngarten!\r\n\r\nDie Kinderspielstadt öffnet von Montag\, 03.08.2026 bis Freitag\, 07.08.2026 von 09:00 bis 16:30 Uhr.\r\nFür berufstätige Eltern gibt es eine Frühbetreuung ab 08:00 Uhr. Dafür fällt eine Zusatzgebühr von 25 € pro Woche an.\r\n\r\nLassen Sie Ihr Kind Teil dieser spannenden Welt werden.\r\n\r\nAnmeldezeitraum: 02.02.2026 bis 05.03.2026.\r\n\r\n
URL;VALUE=URI:https://www.unser-ferienprogramm.de/vaihingen/veranstaltung.php?id=295725
SUMMARY:Kinderspielstadt Mini-Vaihingen Woche 1
DTSTART;TZID=Europe/Berlin:20260805T090000
END:VEVENT


BEGIN:VEVENT
DTEND;TZID=Europe/Berlin:20260806T163000
UID:69e52a91d71d23
DTSTAMP:20260419T211841
LOCATION:Kleinglattbach (Im See 6\, 71665 Vaihingen an der Enz)
DESCRIPTION:Mini Vaihingen: Kinderspielstadt für 7- bis 13-Jährige - der Grundschulbesuch wird vorausgesetzt. Kinder\, die noch in die Kita gehen\, werden zu diesen beiden Angeboten nicht zugelassen.\r\n\r\nEine Stadt in der man arbeiten\, spielen und mitbestimmen kann!\r\nDer erste Weg ist zum Bürgeramt. Dort bekommen die Kinder ihren persönlichen Ausweis und einen Einreisestempel. Dann findet eine Versammlung mit allen Bürger*innen von Mini-Vaihingen statt. Danach können die Kinder sich auf dem Arbeitsamt einen Job vermitteln lassen. Sie können alles werden - von der Bankdirektorin bis zur Müllfrau\, vom Postboten bis zum rasenden Reporter. Auch für die Eltern gibt es etwas ganz Besonderes: Stadtführungen durch Mini-Vaihingen und Bewirtung im Elterngarten!\r\n\r\nDie Kinderspielstadt öffnet von Montag\, 03.08.2026 bis Freitag\, 07.08.2026 von 09:00 bis 16:30 Uhr.\r\nFür berufstätige Eltern gibt es eine Frühbetreuung ab 08:00 Uhr. Dafür fällt eine Zusatzgebühr von 25 € pro Woche an.\r\n\r\nLassen Sie Ihr Kind Teil dieser spannenden Welt werden.\r\n\r\nAnmeldezeitraum: 02.02.2026 bis 05.03.2026.\r\n\r\n
URL;VALUE=URI:https://www.unser-ferienprogramm.de/vaihingen/veranstaltung.php?id=295725
SUMMARY:Kinderspielstadt Mini-Vaihingen Woche 1
DTSTART;TZID=Europe/Berlin:20260806T090000
END:VEVENT


BEGIN:VEVENT
DTEND;TZID=Europe/Berlin:20260807T163000
UID:69e52a91d71e14
DTSTAMP:20260419T211841
LOCATION:Kleinglattbach (Im See 6\, 71665 Vaihingen an der Enz)
DESCRIPTION:Mini Vaihingen: Kinderspielstadt für 7- bis 13-Jährige - der Grundschulbesuch wird vorausgesetzt. Kinder\, die noch in die Kita gehen\, werden zu diesen beiden Angeboten nicht zugelassen.\r\n\r\nEine Stadt in der man arbeiten\, spielen und mitbestimmen kann!\r\nDer erste Weg ist zum Bürgeramt. Dort bekommen die Kinder ihren persönlichen Ausweis und einen Einreisestempel. Dann findet eine Versammlung mit allen Bürger*innen von Mini-Vaihingen statt. Danach können die Kinder sich auf dem Arbeitsamt einen Job vermitteln lassen. Sie können alles werden - von der Bankdirektorin bis zur Müllfrau\, vom Postboten bis zum rasenden Reporter. Auch für die Eltern gibt es etwas ganz Besonderes: Stadtführungen durch Mini-Vaihingen und Bewirtung im Elterngarten!\r\n\r\nDie Kinderspielstadt öffnet von Montag\, 03.08.2026 bis Freitag\, 07.08.2026 von 09:00 bis 16:30 Uhr.\r\nFür berufstätige Eltern gibt es eine Frühbetreuung ab 08:00 Uhr. Dafür fällt eine Zusatzgebühr von 25 € pro Woche an.\r\n\r\nLassen Sie Ihr Kind Teil dieser spannenden Welt werden.\r\n\r\nAnmeldezeitraum: 02.02.2026 bis 05.03.2026.\r\n\r\n
URL;VALUE=URI:https://www.unser-ferienprogramm.de/vaihingen/veranstaltung.php?id=295725
SUMMARY:Kinderspielstadt Mini-Vaihingen Woche 1
DTSTART;TZID=Europe/Berlin:20260807T090000
END:VEVENT

END:VCALENDAR
