BEGIN:VCALENDAR
VERSION:2.0
PRODID:-//hacksw/handcal//NONSGML v1.0//EN
CALSCALE:GREGORIAN
BEGIN:VTIMEZONE
TZID:Europe/Berlin
X-LIC-LOCATION:Europe/Berlin
BEGIN:DAYLIGHT
TZOFFSETFROM:+0100
TZOFFSETTO:+0200
TZNAME:CEST
DTSTART:19700329T020000
RRULE:FREQ=YEARLY;BYDAY=-1SU;BYMONTH=3
END:DAYLIGHT
BEGIN:STANDARD
TZOFFSETFROM:+0200
TZOFFSETTO:+0100
TZNAME:CET
DTSTART:19701025T030000
RRULE:FREQ=YEARLY;BYDAY=-1SU;BYMONTH=10
END:STANDARD
END:VTIMEZONE
BEGIN:VEVENT
DTEND;TZID=Europe/Berlin:20260330T140000
UID:69e5e0d03e619
DTSTAMP:20260420T101616
LOCATION:
DESCRIPTION:Heute kannst du viele fröhliche Frühlingsabenteuer erleben\, tauche bei den Mitmachgeschichten in neue Figuren ein\, begib dich mit Fantasie und Kreativität auf eine Traumreise und lass dich zum Abschluss in der Wellness-Oase verwöhnen.\r\n\r\nDie Ferienaktion findet von 10:00 - 14:00 statt\, von 8:00 bis 10:00 und von 14:00 - 16:00 gibt es Ferienbetreuung.
URL;VALUE=URI:https://www.unser-ferienprogramm.de/untersiemau/veranstaltung.php?id=307986
SUMMARY:Frühlingserwachen mit allen Sinnen
DTSTART;TZID=Europe/Berlin:20260330T100000
END:VEVENT

END:VCALENDAR
