BEGIN:VCALENDAR
VERSION:2.0
PRODID:-//hacksw/handcal//NONSGML v1.0//EN
CALSCALE:GREGORIAN
BEGIN:VTIMEZONE
TZID:Europe/Berlin
X-LIC-LOCATION:Europe/Berlin
BEGIN:DAYLIGHT
TZOFFSETFROM:+0100
TZOFFSETTO:+0200
TZNAME:CEST
DTSTART:19700329T020000
RRULE:FREQ=YEARLY;BYDAY=-1SU;BYMONTH=3
END:DAYLIGHT
BEGIN:STANDARD
TZOFFSETFROM:+0200
TZOFFSETTO:+0100
TZNAME:CET
DTSTART:19701025T030000
RRULE:FREQ=YEARLY;BYDAY=-1SU;BYMONTH=10
END:STANDARD
END:VTIMEZONE
BEGIN:VEVENT
DTEND;TZID=Europe/Berlin:20260316T180000
UID:69e5e0cfb816b
DTSTAMP:20260420T101615
LOCATION:Schrebergarten
DESCRIPTION:Es wird wieder kreativ!\r\nHeute basteln wir coole Mobiles mit Perlen\, Federn und allem\, was uns sonst noch so einfällt. Wenn das Wetter weiterhin so gut bleibt\, treffen wir uns draußen im Schrebergarten! Dort könnt ihr dann\, wenn ihr fertig seid\, noch bis 18 Uhr nach Lust und Laune in unserem Aktivspielplatz bauen!
URL;VALUE=URI:https://www.unser-ferienprogramm.de/untersiemau/veranstaltung.php?id=307336
SUMMARY:Kreativlabor: Mobile selber machen ABGESAGT
DTSTART;TZID=Europe/Berlin:20260316T160000
END:VEVENT

END:VCALENDAR
