BEGIN:VCALENDAR
VERSION:2.0
PRODID:-//hacksw/handcal//NONSGML v1.0//EN
CALSCALE:GREGORIAN
BEGIN:VTIMEZONE
TZID:Europe/Berlin
X-LIC-LOCATION:Europe/Berlin
BEGIN:DAYLIGHT
TZOFFSETFROM:+0100
TZOFFSETTO:+0200
TZNAME:CEST
DTSTART:19700329T020000
RRULE:FREQ=YEARLY;BYDAY=-1SU;BYMONTH=3
END:DAYLIGHT
BEGIN:STANDARD
TZOFFSETFROM:+0200
TZOFFSETTO:+0100
TZNAME:CET
DTSTART:19701025T030000
RRULE:FREQ=YEARLY;BYDAY=-1SU;BYMONTH=10
END:STANDARD
END:VTIMEZONE
BEGIN:VEVENT
DTEND;TZID=Europe/Berlin:20260331T180000
UID:69e5f8deb6779
DTSTAMP:20260420T115854
LOCATION:Guste
DESCRIPTION:Heute ist der Jugendtreff für euch geöffnet!\r\nDu hast Bock auf eine Runde Billiard\, Kicker oder Dart\, möchtest auf der Switch FC25\, Mario Kart und Rocket League spielen oder dich einfach mit Freunden treffen?\r\nSchau doch mal vorbei\, wie gewohnt könnt ihr kommen und gehen wann ihr wollt. Keine Anmeldung nötig.
URL;VALUE=URI:https://www.unser-ferienprogramm.de/untersiemau/veranstaltung.php?id=307269
SUMMARY:Offener Jugendtreff
DTSTART;TZID=Europe/Berlin:20260331T140000
END:VEVENT

END:VCALENDAR
