BEGIN:VCALENDAR
VERSION:2.0
PRODID:-//hacksw/handcal//NONSGML v1.0//EN
CALSCALE:GREGORIAN
BEGIN:VTIMEZONE
TZID:Europe/Berlin
X-LIC-LOCATION:Europe/Berlin
BEGIN:DAYLIGHT
TZOFFSETFROM:+0100
TZOFFSETTO:+0200
TZNAME:CEST
DTSTART:19700329T020000
RRULE:FREQ=YEARLY;BYDAY=-1SU;BYMONTH=3
END:DAYLIGHT
BEGIN:STANDARD
TZOFFSETFROM:+0200
TZOFFSETTO:+0100
TZNAME:CET
DTSTART:19701025T030000
RRULE:FREQ=YEARLY;BYDAY=-1SU;BYMONTH=10
END:STANDARD
END:VTIMEZONE
BEGIN:VEVENT
DTEND;TZID=Europe/Berlin:20260211T183000
UID:69e5e383eb023
DTSTAMP:20260420T102747
LOCATION:
DESCRIPTION:Heute leben wir uns kreativ aus und gestalten so richtig fancy Teelichter!\r\nWir haben eine große Auswahl an Gestaltungsmöglichkeiten und tolle Ideen für dich\, aber du kannst auch selbst kreativ werden und dir etwas neues ausdenken!
URL;VALUE=URI:https://www.unser-ferienprogramm.de/untersiemau/veranstaltung.php?id=301532
SUMMARY:Kreativlabor - Fancy Teelichter gestalten
DTSTART;TZID=Europe/Berlin:20260211T153000
END:VEVENT

END:VCALENDAR
