BEGIN:VCALENDAR
VERSION:2.0
PRODID:-//hacksw/handcal//NONSGML v1.0//EN
CALSCALE:GREGORIAN
BEGIN:VTIMEZONE
TZID:Europe/Berlin
X-LIC-LOCATION:Europe/Berlin
BEGIN:DAYLIGHT
TZOFFSETFROM:+0100
TZOFFSETTO:+0200
TZNAME:CEST
DTSTART:19700329T020000
RRULE:FREQ=YEARLY;BYDAY=-1SU;BYMONTH=3
END:DAYLIGHT
BEGIN:STANDARD
TZOFFSETFROM:+0200
TZOFFSETTO:+0100
TZNAME:CET
DTSTART:19701025T030000
RRULE:FREQ=YEARLY;BYDAY=-1SU;BYMONTH=10
END:STANDARD
END:VTIMEZONE
BEGIN:VEVENT
DTEND;TZID=Europe/Berlin:20260219T180000
UID:69e5e3c840805
DTSTAMP:20260420T102856
LOCATION:
DESCRIPTION:Piste frei und ab die Post! Heute werden wieder rote\, blaue und grüne Panzer geworfen und gedriftet\, was das Zeug hält! Sei dabei und lass dich auf dem Siegerpokal in der Guste verewigen!
URL;VALUE=URI:https://www.unser-ferienprogramm.de/untersiemau/veranstaltung.php?id=300939
SUMMARY:Mario-Kart Turnier ACHTUNG ORT GEÄNDERT
DTSTART;TZID=Europe/Berlin:20260219T140000
END:VEVENT

END:VCALENDAR
