BEGIN:VCALENDAR
VERSION:2.0
PRODID:-//hacksw/handcal//NONSGML v1.0//EN
CALSCALE:GREGORIAN
BEGIN:VTIMEZONE
TZID:Europe/Berlin
X-LIC-LOCATION:Europe/Berlin
BEGIN:DAYLIGHT
TZOFFSETFROM:+0100
TZOFFSETTO:+0200
TZNAME:CEST
DTSTART:19700329T020000
RRULE:FREQ=YEARLY;BYDAY=-1SU;BYMONTH=3
END:DAYLIGHT
BEGIN:STANDARD
TZOFFSETFROM:+0200
TZOFFSETTO:+0100
TZNAME:CET
DTSTART:19701025T030000
RRULE:FREQ=YEARLY;BYDAY=-1SU;BYMONTH=10
END:STANDARD
END:VTIMEZONE
BEGIN:VEVENT
DTEND;TZID=Europe/Berlin:20260218T171000
UID:69e5e3baa1768
DTSTAMP:20260420T102842
LOCATION:
DESCRIPTION:Wir fahren gemeinsam mit dem Zug nach Sonneberg in die Eishalle! Wenn du eigene Schlittschuhe hast\, bring sie bitte mit. Wir sehen uns auf dem Eis! Keine Sorge: Wir können dir jederzeit einen Eislauf-Pinguin ausleihen\, falls du dich noch unsicher fühlst.
URL;VALUE=URI:https://www.unser-ferienprogramm.de/untersiemau/veranstaltung.php?id=300929
SUMMARY:Schlittschuhlaufen
DTSTART;TZID=Europe/Berlin:20260218T083000
END:VEVENT

END:VCALENDAR
