BEGIN:VCALENDAR
VERSION:2.0
PRODID:-//hacksw/handcal//NONSGML v1.0//EN
CALSCALE:GREGORIAN
BEGIN:VTIMEZONE
TZID:Europe/Berlin
X-LIC-LOCATION:Europe/Berlin
BEGIN:DAYLIGHT
TZOFFSETFROM:+0100
TZOFFSETTO:+0200
TZNAME:CEST
DTSTART:19700329T020000
RRULE:FREQ=YEARLY;BYDAY=-1SU;BYMONTH=3
END:DAYLIGHT
BEGIN:STANDARD
TZOFFSETFROM:+0200
TZOFFSETTO:+0100
TZNAME:CET
DTSTART:19701025T030000
RRULE:FREQ=YEARLY;BYDAY=-1SU;BYMONTH=10
END:STANDARD
END:VTIMEZONE
BEGIN:VEVENT
DTEND;TZID=Europe/Berlin:20260217T180000
UID:69e5e7046bbbd
DTSTAMP:20260420T104244
LOCATION:
DESCRIPTION:Heute ist der Jugendtreff für euch geöffnet!\r\nVollkommen zwanglos könnt ihr heute kommen und gehen wann ihr wollt. Bock auf eine Runde Dart oder Monopoly? Komm vorbei!\r\nKeine Anmeldung nötig.
URL;VALUE=URI:https://www.unser-ferienprogramm.de/untersiemau/veranstaltung.php?id=300905
SUMMARY:Offener Jugendtreff
DTSTART;TZID=Europe/Berlin:20260217T140000
END:VEVENT

END:VCALENDAR
