BEGIN:VCALENDAR
VERSION:2.0
PRODID:-//hacksw/handcal//NONSGML v1.0//EN
CALSCALE:GREGORIAN
BEGIN:VTIMEZONE
TZID:Europe/Berlin
X-LIC-LOCATION:Europe/Berlin
BEGIN:DAYLIGHT
TZOFFSETFROM:+0100
TZOFFSETTO:+0200
TZNAME:CEST
DTSTART:19700329T020000
RRULE:FREQ=YEARLY;BYDAY=-1SU;BYMONTH=3
END:DAYLIGHT
BEGIN:STANDARD
TZOFFSETFROM:+0200
TZOFFSETTO:+0100
TZNAME:CET
DTSTART:19701025T030000
RRULE:FREQ=YEARLY;BYDAY=-1SU;BYMONTH=10
END:STANDARD
END:VTIMEZONE
BEGIN:VEVENT
DTEND;TZID=Europe/Berlin:20260216T180000
UID:69e5e3831a10c
DTSTAMP:20260420T102747
LOCATION:
DESCRIPTION:Das Kreativlabor stemmt das erste Großprojekt! Unterstützt von der Künstlerin Frau Güdokeit werden wir uns heute eine der weißen Wände im Jugendtreff vornehmen - und gemeinsam umgestalten! Du hast Ideen? Immer her damit! Gestalte mit uns deinen Jugendtreff! (Mittagessen ist dabei!)
URL;VALUE=URI:https://www.unser-ferienprogramm.de/untersiemau/veranstaltung.php?id=300896
SUMMARY:Unser Treff muss schöner werden!
DTSTART;TZID=Europe/Berlin:20260216T093000
END:VEVENT

END:VCALENDAR
