BEGIN:VCALENDAR
VERSION:2.0
PRODID:-//hacksw/handcal//NONSGML v1.0//EN
CALSCALE:GREGORIAN
BEGIN:VTIMEZONE
TZID:Europe/Berlin
X-LIC-LOCATION:Europe/Berlin
BEGIN:DAYLIGHT
TZOFFSETFROM:+0100
TZOFFSETTO:+0200
TZNAME:CEST
DTSTART:19700329T020000
RRULE:FREQ=YEARLY;BYDAY=-1SU;BYMONTH=3
END:DAYLIGHT
BEGIN:STANDARD
TZOFFSETFROM:+0200
TZOFFSETTO:+0100
TZNAME:CET
DTSTART:19701025T030000
RRULE:FREQ=YEARLY;BYDAY=-1SU;BYMONTH=10
END:STANDARD
END:VTIMEZONE
BEGIN:VEVENT
DTEND;TZID=Europe/Berlin:20260219T130000
UID:69e5e425df8fb
DTSTAMP:20260420T103029
LOCATION:
DESCRIPTION:Billetverkäufer\, Platzanweiser\, Garderobiere\, Popcorn-Verkäufer und alles\, was zum Kino dazugehört. Ihr werdet die Jobs machen und könnt euch dann auf die Vorführung freuen.\r\n\r\nDie Ferienaktion findet von 10:00 - 13:00 statt\, von 8:00 bis 10:00 und von 13:00 - 16:00 gibt es Ferienbetreuung.
URL;VALUE=URI:https://www.unser-ferienprogramm.de/untersiemau/veranstaltung.php?id=300872
SUMMARY:Wir spielen Kino
DTSTART;TZID=Europe/Berlin:20260219T100000
END:VEVENT

END:VCALENDAR
