BEGIN:VCALENDAR
VERSION:2.0
PRODID:-//hacksw/handcal//NONSGML v1.0//EN
CALSCALE:GREGORIAN
BEGIN:VTIMEZONE
TZID:Europe/Berlin
X-LIC-LOCATION:Europe/Berlin
BEGIN:DAYLIGHT
TZOFFSETFROM:+0100
TZOFFSETTO:+0200
TZNAME:CEST
DTSTART:19700329T020000
RRULE:FREQ=YEARLY;BYDAY=-1SU;BYMONTH=3
END:DAYLIGHT
BEGIN:STANDARD
TZOFFSETFROM:+0200
TZOFFSETTO:+0100
TZNAME:CET
DTSTART:19701025T030000
RRULE:FREQ=YEARLY;BYDAY=-1SU;BYMONTH=10
END:STANDARD
END:VTIMEZONE
BEGIN:VEVENT
DTEND;TZID=Europe/Berlin:20260218T140000
UID:69e5e3f2bab25
DTSTAMP:20260420T102938
LOCATION:
DESCRIPTION:Am Aschermittwoch wird es sportlich. Wir bauen in der Turnhalle einen Überraschungsparcours auf und ihr werdet bei verschiedenen Bewegungsstationen gegeneinander antreten. Gewinne sind euch sicher!\r\n\r\nDie Ferienaktion findet von 11:00 - 14:00 statt\, von 8:00 bis 11:00 und von 14:00 - 16:00 gibt es Ferienbetreuung.
URL;VALUE=URI:https://www.unser-ferienprogramm.de/untersiemau/veranstaltung.php?id=300869
SUMMARY:Winter-Olympiade
DTSTART;TZID=Europe/Berlin:20260218T110000
END:VEVENT

END:VCALENDAR
