BEGIN:VCALENDAR
VERSION:2.0
PRODID:-//hacksw/handcal//NONSGML v1.0//EN
CALSCALE:GREGORIAN
BEGIN:VTIMEZONE
TZID:Europe/Berlin
X-LIC-LOCATION:Europe/Berlin
BEGIN:DAYLIGHT
TZOFFSETFROM:+0100
TZOFFSETTO:+0200
TZNAME:CEST
DTSTART:19700329T020000
RRULE:FREQ=YEARLY;BYDAY=-1SU;BYMONTH=3
END:DAYLIGHT
BEGIN:STANDARD
TZOFFSETFROM:+0200
TZOFFSETTO:+0100
TZNAME:CET
DTSTART:19701025T030000
RRULE:FREQ=YEARLY;BYDAY=-1SU;BYMONTH=10
END:STANDARD
END:VTIMEZONE
BEGIN:VEVENT
DTEND;TZID=Europe/Berlin:20260217T140000
UID:69e5e752ca248
DTSTAMP:20260420T104402
LOCATION:
DESCRIPTION:Faschingsparty ist angesagt!\r\nAm Faschingsdienstag wird wieder nach Herzenslust getanzt und getobt unter unserem berühmten Bonbonregen! Wir haben einiges für euch vorbereitet und sind schon sehr gespannt auf eure Verkleidungen! \r\n\r\nDie Ferienaktion findet von 11:00 - 14:00 statt\, von 8:00 bis 11:00 und von 14:00 - 16:00 gibt es Ferienbetreuung.
URL;VALUE=URI:https://www.unser-ferienprogramm.de/untersiemau/veranstaltung.php?id=300865
SUMMARY:Faschings-Party
DTSTART;TZID=Europe/Berlin:20260217T110000
END:VEVENT

END:VCALENDAR
