BEGIN:VCALENDAR
VERSION:2.0
PRODID:-//hacksw/handcal//NONSGML v1.0//EN
CALSCALE:GREGORIAN
BEGIN:VTIMEZONE
TZID:Europe/Berlin
X-LIC-LOCATION:Europe/Berlin
BEGIN:DAYLIGHT
TZOFFSETFROM:+0100
TZOFFSETTO:+0200
TZNAME:CEST
DTSTART:19700329T020000
RRULE:FREQ=YEARLY;BYDAY=-1SU;BYMONTH=3
END:DAYLIGHT
BEGIN:STANDARD
TZOFFSETFROM:+0200
TZOFFSETTO:+0100
TZNAME:CET
DTSTART:19701025T030000
RRULE:FREQ=YEARLY;BYDAY=-1SU;BYMONTH=10
END:STANDARD
END:VTIMEZONE
BEGIN:VEVENT
DTEND;TZID=Europe/Berlin:20251106T160000
UID:69e5e3a0b5ab5
DTSTAMP:20260420T102816
LOCATION:
DESCRIPTION:Freu dich auf eine besondere Rally durchs Museum mit vielen verschiedenen Aktionen und besonderen Erlebnissen. Nachdem wir mit Bus und Bahn unterwegs sind nkannst du dich auf eine besondere Rally durchs Museum mit vielen verschiedenen Aktionen und besonderen Erlebnissen freuen. Lass dich also überraschen!
URL;VALUE=URI:https://www.unser-ferienprogramm.de/untersiemau/veranstaltung.php?id=292827
SUMMARY:Spielzeugmuseum in Neustadt bei Coburg
DTSTART;TZID=Europe/Berlin:20251106T091500
END:VEVENT

END:VCALENDAR
