BEGIN:VCALENDAR
VERSION:2.0
PRODID:-//hacksw/handcal//NONSGML v1.0//EN
CALSCALE:GREGORIAN
BEGIN:VTIMEZONE
TZID:Europe/Berlin
X-LIC-LOCATION:Europe/Berlin
BEGIN:DAYLIGHT
TZOFFSETFROM:+0100
TZOFFSETTO:+0200
TZNAME:CEST
DTSTART:19700329T020000
RRULE:FREQ=YEARLY;BYDAY=-1SU;BYMONTH=3
END:DAYLIGHT
BEGIN:STANDARD
TZOFFSETFROM:+0200
TZOFFSETTO:+0100
TZNAME:CET
DTSTART:19701025T030000
RRULE:FREQ=YEARLY;BYDAY=-1SU;BYMONTH=10
END:STANDARD
END:VTIMEZONE
BEGIN:VEVENT
DTEND;TZID=Europe/Berlin:20251021T193000
UID:69e5e3c04577a
DTSTAMP:20260420T102848
LOCATION:
DESCRIPTION:Diesmal wird nichts gekocht\, sondern wir werden gemeinsam backen!\r\nCharlotte (die große Charlotte!) hat sich für euch zwei besondere Rezepte rausgesucht:\r\nZimtschnecken und Oreo-Cupcakes!\r\n\r\nDa kommt natürlich die große Frage auf: Welches Rezept wollt ihr zaubern? Stimm mit ab und sei dabei!
URL;VALUE=URI:https://www.unser-ferienprogramm.de/untersiemau/veranstaltung.php?id=292466
SUMMARY:Backen mit Charlotte
DTSTART;TZID=Europe/Berlin:20251021T173000
END:VEVENT

END:VCALENDAR
