BEGIN:VCALENDAR
VERSION:2.0
PRODID:-//hacksw/handcal//NONSGML v1.0//EN
CALSCALE:GREGORIAN
BEGIN:VTIMEZONE
TZID:Europe/Berlin
X-LIC-LOCATION:Europe/Berlin
BEGIN:DAYLIGHT
TZOFFSETFROM:+0100
TZOFFSETTO:+0200
TZNAME:CEST
DTSTART:19700329T020000
RRULE:FREQ=YEARLY;BYDAY=-1SU;BYMONTH=3
END:DAYLIGHT
BEGIN:STANDARD
TZOFFSETFROM:+0200
TZOFFSETTO:+0100
TZNAME:CET
DTSTART:19701025T030000
RRULE:FREQ=YEARLY;BYDAY=-1SU;BYMONTH=10
END:STANDARD
END:VTIMEZONE
BEGIN:VEVENT
DTEND;TZID=Europe/Berlin:20250908T180000
UID:69e6157deb354
DTSTAMP:20260420T140101
LOCATION:
DESCRIPTION:Puh\, so eine Hitze! Aber wie könnten wir uns am besten abkühlen?\r\nWir besuchen einfach den KAOS-Verein in Cortendorf und steigen in die Kajaks! Du hast Bock in der Sommerhitze durch das kühle Wasser zu paddeln? Dann sei dabei!
URL;VALUE=URI:https://www.unser-ferienprogramm.de/untersiemau/veranstaltung.php?id=285831
SUMMARY:Kajak fahren (Freischwimmer benötigt!)
DTSTART;TZID=Europe/Berlin:20250908T123000
END:VEVENT

END:VCALENDAR
