BEGIN:VCALENDAR
VERSION:2.0
PRODID:-//hacksw/handcal//NONSGML v1.0//EN
CALSCALE:GREGORIAN
BEGIN:VTIMEZONE
TZID:Europe/Berlin
X-LIC-LOCATION:Europe/Berlin
BEGIN:DAYLIGHT
TZOFFSETFROM:+0100
TZOFFSETTO:+0200
TZNAME:CEST
DTSTART:19700329T020000
RRULE:FREQ=YEARLY;BYDAY=-1SU;BYMONTH=3
END:DAYLIGHT
BEGIN:STANDARD
TZOFFSETFROM:+0200
TZOFFSETTO:+0100
TZNAME:CET
DTSTART:19701025T030000
RRULE:FREQ=YEARLY;BYDAY=-1SU;BYMONTH=10
END:STANDARD
END:VTIMEZONE
BEGIN:VEVENT
DTEND;TZID=Europe/Berlin:20250905T120000
UID:69e5fb0dddecc
DTSTAMP:20260420T120813
LOCATION:
DESCRIPTION:Ihr wolltet eine Ferienfreizeit\, die länger geht\, als einen Tag? Hier habt ihr sie! Wir werden zwei Nächte im Schrebergarten zelten\, weit weg von Zivilisation und WLAN. Stockbrot über dem offenen Feuer\, unsere eigene Lagerstätte bauen und der funkelnde Sternenhimmel erwarten dich!\r\n\r\n\r\nPackliste:\r\nSchlafsack\r\nIsomatte\r\nKopfkissen\r\nSchlafanzug\r\nWechselkleidung\r\nRegenjacke\r\nKopfbedeckung\r\nBruchfeste Trinkflasche\r\nHygienebeutel mit Zahnbürste und Zahnpasta\r\nSonnencreme\r\nAlles\, was du sonst noch so brauchst!\r\n\r\nVerboten:\r\nDrogen\r\nAlkohol\r\nEnergy-Drinks
URL;VALUE=URI:https://www.unser-ferienprogramm.de/untersiemau/veranstaltung.php?id=285799
SUMMARY:Mit Zelt und Zunder
DTSTART;TZID=Europe/Berlin:20250903T140000
END:VEVENT

END:VCALENDAR
