BEGIN:VCALENDAR
VERSION:2.0
PRODID:-//hacksw/handcal//NONSGML v1.0//EN
CALSCALE:GREGORIAN
BEGIN:VTIMEZONE
TZID:Europe/Berlin
X-LIC-LOCATION:Europe/Berlin
BEGIN:DAYLIGHT
TZOFFSETFROM:+0100
TZOFFSETTO:+0200
TZNAME:CEST
DTSTART:19700329T020000
RRULE:FREQ=YEARLY;BYDAY=-1SU;BYMONTH=3
END:DAYLIGHT
BEGIN:STANDARD
TZOFFSETFROM:+0200
TZOFFSETTO:+0100
TZNAME:CET
DTSTART:19701025T030000
RRULE:FREQ=YEARLY;BYDAY=-1SU;BYMONTH=10
END:STANDARD
END:VTIMEZONE
BEGIN:VEVENT
DTEND;TZID=Europe/Berlin:20250612T143000
UID:69e5e91c08cca
DTSTAMP:20260420T105140
LOCATION:
DESCRIPTION:Wie in jedem Jahr wollen wir nach Burgkunstadt zum In- und Outdoor-Minigolf. Dort schwingen wir die Schläger und wollen mal sehen welche Gruppe gewinnt. Mittags gibt es Nudeln mit Soße und ein Getränk ist auch dabei. Gerne könnt ihr euch dann noch ein Eis kaufen.
URL;VALUE=URI:https://www.unser-ferienprogramm.de/untersiemau/veranstaltung.php?id=263229
SUMMARY:In- und Outdoor Minigolf
DTSTART;TZID=Europe/Berlin:20250612T103000
END:VEVENT

END:VCALENDAR
