BEGIN:VCALENDAR
VERSION:2.0
PRODID:-//hacksw/handcal//NONSGML v1.0//EN
CALSCALE:GREGORIAN
BEGIN:VTIMEZONE
TZID:Europe/Berlin
X-LIC-LOCATION:Europe/Berlin
BEGIN:DAYLIGHT
TZOFFSETFROM:+0100
TZOFFSETTO:+0200
TZNAME:CEST
DTSTART:19700329T020000
RRULE:FREQ=YEARLY;BYDAY=-1SU;BYMONTH=3
END:DAYLIGHT
BEGIN:STANDARD
TZOFFSETFROM:+0200
TZOFFSETTO:+0100
TZNAME:CET
DTSTART:19701025T030000
RRULE:FREQ=YEARLY;BYDAY=-1SU;BYMONTH=10
END:STANDARD
END:VTIMEZONE
BEGIN:VEVENT
DTEND;TZID=Europe/Berlin:20260522T180000
UID:69e6c0375a9ce
DTSTAMP:20260421T020927
LOCATION:Jugendtreff MGH Saltendorf
DESCRIPTION:Tauche ein in die Vielfalt der internationalen Küche und erlebe alle zwei Monate ein neues kulinarisches Highlight! Bei unserer "Kulinarischen Weltreise" widmen wir uns jeweils einer anderen Länderspezialität und bereiten zusammen authentische Gerichte zu\, die nicht nur den Gaumen\, sondern auch das Herz erfreuen.\r\n\r\nKaspressknödel mit Brühe\r\nBerner-Würstl mit Kartoffelsalat\r\nGermknödel\r\n\r\nOb Anfänger oder erfahrener Koch – jeder kann mitmachen und neue Techniken und Rezepte lernen\, die zu Hause ganz einfach nachgekocht werden können.\r\n\r\nZudem unterstützt der Jugendtreff mit den Kochaktionen die gesunde Ernährung und trägt in Kooperation mit der Telemannschule zu dem Programm "Fit4future" der DAK bei.
URL;VALUE=URI:https://www.unser-ferienprogramm.de/teublitz/veranstaltung.php?id=307155
SUMMARY:Fit4future - "Kochen rund um den Globus: Entdecke die Küche der Welt“ Heute: Österreich
DTSTART;TZID=Europe/Berlin:20260522T153000
END:VEVENT

END:VCALENDAR
