BEGIN:VCALENDAR
VERSION:2.0
PRODID:-//hacksw/handcal//NONSGML v1.0//EN
CALSCALE:GREGORIAN
BEGIN:VTIMEZONE
TZID:Europe/Berlin
X-LIC-LOCATION:Europe/Berlin
BEGIN:DAYLIGHT
TZOFFSETFROM:+0100
TZOFFSETTO:+0200
TZNAME:CEST
DTSTART:19700329T020000
RRULE:FREQ=YEARLY;BYDAY=-1SU;BYMONTH=3
END:DAYLIGHT
BEGIN:STANDARD
TZOFFSETFROM:+0200
TZOFFSETTO:+0100
TZNAME:CET
DTSTART:19701025T030000
RRULE:FREQ=YEARLY;BYDAY=-1SU;BYMONTH=10
END:STANDARD
END:VTIMEZONE
BEGIN:VEVENT
DTEND;TZID=Europe/Berlin:20260623T143000
UID:69e6c1020485a
DTSTAMP:20260421T021250
LOCATION:Bürgersaal im Mehrgenerationenhaus\, Rötlsteinstraße 35\, 93158 Teublitz
DESCRIPTION:Der Seniorenbeirat lädt zu einem entspannten Nachmittag ein. Bei frischen Kücheln und einer guten Tasse Kaffee bleibt viel Zeit zum Plaudern und Zusammensitzen. \r\n\r\nMaria Dickert begleitet den Nachmittag immer wieder mit Geschichten\, kleinen Anekdoten und humorvollen Einlagen und sorgt so für eine fröhliche\, leichte Atmosphäre! 
URL;VALUE=URI:https://www.unser-ferienprogramm.de/teublitz/veranstaltung.php?id=295719
SUMMARY:SENIOREN: Kaffee-Nachmittag mit lustiger Unterhaltung
DTSTART;TZID=Europe/Berlin:20260623T143000
END:VEVENT

END:VCALENDAR
