BEGIN:VCALENDAR
VERSION:2.0
PRODID:-//hacksw/handcal//NONSGML v1.0//EN
CALSCALE:GREGORIAN
BEGIN:VTIMEZONE
TZID:Europe/Berlin
X-LIC-LOCATION:Europe/Berlin
BEGIN:DAYLIGHT
TZOFFSETFROM:+0100
TZOFFSETTO:+0200
TZNAME:CEST
DTSTART:19700329T020000
RRULE:FREQ=YEARLY;BYDAY=-1SU;BYMONTH=3
END:DAYLIGHT
BEGIN:STANDARD
TZOFFSETFROM:+0200
TZOFFSETTO:+0100
TZNAME:CET
DTSTART:19701025T030000
RRULE:FREQ=YEARLY;BYDAY=-1SU;BYMONTH=10
END:STANDARD
END:VTIMEZONE
BEGIN:VEVENT
DTEND;TZID=Europe/Berlin:20260516T180000
UID:69e6c0f6ead0f
DTSTAMP:20260421T021238
LOCATION:Festzelt im Teublitzer Stadtpark
DESCRIPTION:Das traditionelle Teublitzer Volksfest findet dieses Jahr vom 13. Mai bis 17. Mai im Stadtpark statt. Besonders für unsere Seniorinnen und Senioren wird am Samstagnachmittag von 14.00 Uhr bis 18.00 Uhr ein gemütlicher Seniorennachmittag im Festzelt veranstaltet. \r\n\r\nFreuen Sie sich auf ein paar gesellige Stunden bei musikalischer Unterhaltung durch die Blaskapelle Teublitz\, und auf leckere Getränke und eine fröhliche Atmosphäre. \r\n\r\nGenießen Sie die Gelegenheit alte Bekannte zu treffen\, sich auszutauschen und gemeinsam die Stimmung des Volksfestes zu erleben - ein Nachmittag voller Unterhaltung\, Musik und Geselligkeit. 
URL;VALUE=URI:https://www.unser-ferienprogramm.de/teublitz/veranstaltung.php?id=295718
SUMMARY:SENIOREN: Besuch des Seniorennachmittags am Volksfest
DTSTART;TZID=Europe/Berlin:20260516T140000
END:VEVENT

END:VCALENDAR
