BEGIN:VCALENDAR
VERSION:2.0
PRODID:-//hacksw/handcal//NONSGML v1.0//EN
CALSCALE:GREGORIAN
BEGIN:VTIMEZONE
TZID:Europe/Berlin
X-LIC-LOCATION:Europe/Berlin
BEGIN:DAYLIGHT
TZOFFSETFROM:+0100
TZOFFSETTO:+0200
TZNAME:CEST
DTSTART:19700329T020000
RRULE:FREQ=YEARLY;BYDAY=-1SU;BYMONTH=3
END:DAYLIGHT
BEGIN:STANDARD
TZOFFSETFROM:+0200
TZOFFSETTO:+0100
TZNAME:CET
DTSTART:19701025T030000
RRULE:FREQ=YEARLY;BYDAY=-1SU;BYMONTH=10
END:STANDARD
END:VTIMEZONE
BEGIN:VEVENT
DTEND;TZID=Europe/Berlin:20260505T143000
UID:69e6c13abd6d4
DTSTAMP:20260421T021346
LOCATION:Wild- und Freizeitpark Höllohe\, Höllohe 1\, 93158 Teublitz
DESCRIPTION:Entdecken Sie gemeinsam die schönen Wege des Wild- und Freizeitparks Höllohe direkt vor unserer Haustür. \r\n\r\nDer Treffpunkt ist am „Wedahaisl“\, von wo aus wir zu einer gemütlichen Runde durch den Park aufbrechen.\r\n\r\nDabei erhalten wir eine kleine Führung\, die interessante Einblicke in den Park und seine tierischen Bewohner bietet. \r\n\r\nUnterwegs können Sie unter anderem die neuen Auerochsen\, die seit Herbst 2025 in der Höllohe leben\, sowie weitere Neuerungen entdecken. \r\n\r\nZum Abschluss besteht die Möglichkeit sich beim gemeinsamen Ausklang am Kiosk mit Speisen und Getränken einzudecken.  \r\n
URL;VALUE=URI:https://www.unser-ferienprogramm.de/teublitz/veranstaltung.php?id=295717
SUMMARY:SENIOREN: Spaziergang durch den Wild- und Freizeitpark Höllohe
DTSTART;TZID=Europe/Berlin:20260505T143000
END:VEVENT

END:VCALENDAR
