BEGIN:VCALENDAR
VERSION:2.0
PRODID:-//hacksw/handcal//NONSGML v1.0//EN
CALSCALE:GREGORIAN
BEGIN:VTIMEZONE
TZID:Europe/Berlin
X-LIC-LOCATION:Europe/Berlin
BEGIN:DAYLIGHT
TZOFFSETFROM:+0100
TZOFFSETTO:+0200
TZNAME:CEST
DTSTART:19700329T020000
RRULE:FREQ=YEARLY;BYDAY=-1SU;BYMONTH=3
END:DAYLIGHT
BEGIN:STANDARD
TZOFFSETFROM:+0200
TZOFFSETTO:+0100
TZNAME:CET
DTSTART:19701025T030000
RRULE:FREQ=YEARLY;BYDAY=-1SU;BYMONTH=10
END:STANDARD
END:VTIMEZONE
BEGIN:VEVENT
DTEND;TZID=Europe/Berlin:20260421T143000
UID:69e6c10288a13
DTSTAMP:20260421T021250
LOCATION:Bürgersaal im Mehrgenerationenhaus\, Rötlsteinstraße 35\, 93158 Burglengenfeld
DESCRIPTION:"La Dolce Villa"\r\n\r\nVerbringen Sie einen entspannten Nachmittag in der Toskana. \r\n\r\nIn dieser charmanten Komödie reist ein Vater zu seiner Tochter\, die eine alte Villa in Italien erwerben will. Dort erlebt er unerwartete Begegnungen\, kleine Abenteuer und humorvolle Situationen - und entdeckt auf amüsante Weise\, dass es nie zu spät ist für neue Freundschaften und schöne Überraschungen. \r\n\r\nEin Film voller Herz\, Humor und italienischem Flair. \r\n\r\nEs werden Getränke und Popcorn für das echte Kino-Gefühl angeboten. 
URL;VALUE=URI:https://www.unser-ferienprogramm.de/teublitz/veranstaltung.php?id=295716
SUMMARY:SENIOREN: Filmnachmittag im Mehrgenerationenhaus
DTSTART;TZID=Europe/Berlin:20260421T143000
END:VEVENT

END:VCALENDAR
