BEGIN:VCALENDAR
VERSION:2.0
PRODID:-//hacksw/handcal//NONSGML v1.0//EN
CALSCALE:GREGORIAN
BEGIN:VTIMEZONE
TZID:Europe/Berlin
X-LIC-LOCATION:Europe/Berlin
BEGIN:DAYLIGHT
TZOFFSETFROM:+0100
TZOFFSETTO:+0200
TZNAME:CEST
DTSTART:19700329T020000
RRULE:FREQ=YEARLY;BYDAY=-1SU;BYMONTH=3
END:DAYLIGHT
BEGIN:STANDARD
TZOFFSETFROM:+0200
TZOFFSETTO:+0100
TZNAME:CET
DTSTART:19701025T030000
RRULE:FREQ=YEARLY;BYDAY=-1SU;BYMONTH=10
END:STANDARD
END:VTIMEZONE
BEGIN:VEVENT
DTEND;TZID=Europe/Berlin:20260326T140000
UID:69eae657e007c
DTSTAMP:20260424T054111
LOCATION:Lernatelier / Jugendtreff Reinfeld
DESCRIPTION:ACHTUNG ERGÄNZUNG (Stand 24.3.26):\r\nZEITEN\, ALTER UND INHALTE NUR NACH INDIVIDUELLER ABSPRACHE UND BERATUNG!\r\n\r\n\r\nZusammen mit dem Kreisjugendring Stormarn e.V. bekommst du eine Einführung zum Umgang mit der VR-Brille (Oculus Quest 2\,3) und dem Programm „multi brush“. \r\nIn der virtuellen Realität kannst du ein dreidimensionales und begehbares Kunstwerk erschaffen.\r\n\r\nDas Zeichnen steht im Mittelpunkt\, doch wir werden auch über die Erfahrungen mit VR sprechen und weitere Möglichkeiten ausprobieren.\r\nZwischendrin werden angemessene Pausen gemacht und Tipps ausgetauscht. \r\n\r\nEs können max. 8 Jugendliche ab 12 Jahren mitmachen\, da es nur eine begrenzte Anzahl an Brillen gibt. \r\nDu solltest an beiden Tagen Zeit haben \;)\r\n\r\nBitte selber Snacks und Getränke für die Pausen mitbringen.\r\n
URL;VALUE=URI:https://www.unser-ferienprogramm.de/stadt-reinfeld/veranstaltung.php?id=304119
SUMMARY:eingeschränkte Durchführung! (statt Absage) "Komm in mein Bild" - Malen unter der VR-Brille
DTSTART;TZID=Europe/Berlin:20260326T100000
END:VEVENT


BEGIN:VEVENT
DTEND;TZID=Europe/Berlin:20260327T140000
UID:69eae657e00c01
DTSTAMP:20260424T054111
LOCATION:Lernatelier / Jugendtreff Reinfeld
DESCRIPTION:ACHTUNG ERGÄNZUNG (Stand 24.3.26):\r\nZEITEN\, ALTER UND INHALTE NUR NACH INDIVIDUELLER ABSPRACHE UND BERATUNG!\r\n\r\n\r\nZusammen mit dem Kreisjugendring Stormarn e.V. bekommst du eine Einführung zum Umgang mit der VR-Brille (Oculus Quest 2\,3) und dem Programm „multi brush“. \r\nIn der virtuellen Realität kannst du ein dreidimensionales und begehbares Kunstwerk erschaffen.\r\n\r\nDas Zeichnen steht im Mittelpunkt\, doch wir werden auch über die Erfahrungen mit VR sprechen und weitere Möglichkeiten ausprobieren.\r\nZwischendrin werden angemessene Pausen gemacht und Tipps ausgetauscht. \r\n\r\nEs können max. 8 Jugendliche ab 12 Jahren mitmachen\, da es nur eine begrenzte Anzahl an Brillen gibt. \r\nDu solltest an beiden Tagen Zeit haben \;)\r\n\r\nBitte selber Snacks und Getränke für die Pausen mitbringen.\r\n
URL;VALUE=URI:https://www.unser-ferienprogramm.de/stadt-reinfeld/veranstaltung.php?id=304119
SUMMARY:eingeschränkte Durchführung! (statt Absage) "Komm in mein Bild" - Malen unter der VR-Brille
DTSTART;TZID=Europe/Berlin:20260327T100000
END:VEVENT

END:VCALENDAR
