BEGIN:VCALENDAR
VERSION:2.0
PRODID:-//hacksw/handcal//NONSGML v1.0//EN
CALSCALE:GREGORIAN
BEGIN:VTIMEZONE
TZID:Europe/Berlin
X-LIC-LOCATION:Europe/Berlin
BEGIN:DAYLIGHT
TZOFFSETFROM:+0100
TZOFFSETTO:+0200
TZNAME:CEST
DTSTART:19700329T020000
RRULE:FREQ=YEARLY;BYDAY=-1SU;BYMONTH=3
END:DAYLIGHT
BEGIN:STANDARD
TZOFFSETFROM:+0200
TZOFFSETTO:+0100
TZNAME:CET
DTSTART:19701025T030000
RRULE:FREQ=YEARLY;BYDAY=-1SU;BYMONTH=10
END:STANDARD
END:VTIMEZONE
BEGIN:VEVENT
DTEND;TZID=Europe/Berlin:20251015T180000
UID:69e754087388d
DTSTAMP:20260421T124008
LOCATION:"Alter Schlachthof" Freiburger Str. 4 
DESCRIPTION:Draußen wird es dunkel und wir verbringen einen gemütlichen Kinoabend im \r\n"Alten Schlachthof" mit einem lustigen Film und frischem Popcorn. \r\nDie roten Sofas laden zum Chillen ein!
URL;VALUE=URI:https://www.unser-ferienprogramm.de/stade/veranstaltung.php?id=292666
SUMMARY:Kinoabend
DTSTART;TZID=Europe/Berlin:20251015T150000
END:VEVENT

END:VCALENDAR
