BEGIN:VCALENDAR
VERSION:2.0
PRODID:-//hacksw/handcal//NONSGML v1.0//EN
CALSCALE:GREGORIAN
BEGIN:VTIMEZONE
TZID:Europe/Berlin
X-LIC-LOCATION:Europe/Berlin
BEGIN:DAYLIGHT
TZOFFSETFROM:+0100
TZOFFSETTO:+0200
TZNAME:CEST
DTSTART:19700329T020000
RRULE:FREQ=YEARLY;BYDAY=-1SU;BYMONTH=3
END:DAYLIGHT
BEGIN:STANDARD
TZOFFSETFROM:+0200
TZOFFSETTO:+0100
TZNAME:CET
DTSTART:19701025T030000
RRULE:FREQ=YEARLY;BYDAY=-1SU;BYMONTH=10
END:STANDARD
END:VTIMEZONE
BEGIN:VEVENT
DTEND;TZID=Europe/Berlin:20251021T150000
UID:69e75683d2d28
DTSTAMP:20260421T125043
LOCATION:Jugendhaus Altländer Viertel
DESCRIPTION:Heute wird gespielt! Ob bei verschiedenen Uno Spielen\, Brettspielen\, Billard\, Kicker\, Tisch-Tennis oder weiteren Spielen\, werden wir es so richtig Krachen lassen. Du kannst auch einfach dein eigenes Lieblingsspiel mitbringen.
URL;VALUE=URI:https://www.unser-ferienprogramm.de/stade/veranstaltung.php?id=292251
SUMMARY:Spiele spielen - Abgesagt-
DTSTART;TZID=Europe/Berlin:20251021T110000
END:VEVENT

END:VCALENDAR
