BEGIN:VCALENDAR
VERSION:2.0
PRODID:-//hacksw/handcal//NONSGML v1.0//EN
CALSCALE:GREGORIAN
BEGIN:VTIMEZONE
TZID:Europe/Berlin
X-LIC-LOCATION:Europe/Berlin
BEGIN:DAYLIGHT
TZOFFSETFROM:+0100
TZOFFSETTO:+0200
TZNAME:CEST
DTSTART:19700329T020000
RRULE:FREQ=YEARLY;BYDAY=-1SU;BYMONTH=3
END:DAYLIGHT
BEGIN:STANDARD
TZOFFSETFROM:+0200
TZOFFSETTO:+0100
TZNAME:CET
DTSTART:19701025T030000
RRULE:FREQ=YEARLY;BYDAY=-1SU;BYMONTH=10
END:STANDARD
END:VTIMEZONE
BEGIN:VEVENT
DTEND;TZID=Europe/Berlin:20251023T130000
UID:69e75650a0f55
DTSTAMP:20260421T124952
LOCATION:Jugendhaus Wiepenkathen
DESCRIPTION:Ein Schwimmkurs für Büroklammern\, ein Wasserberg auf einer Münze und ein Pfeil\, der sich wie von Geisterhand dreht? Klingt verrückt? Komm vorbei und lass dich von diesen und weiteren kleinen Experimenten faszinieren. 
URL;VALUE=URI:https://www.unser-ferienprogramm.de/stade/veranstaltung.php?id=291691
SUMMARY:Kleine Experimente - Abgesagt-
DTSTART;TZID=Europe/Berlin:20251023T110000
END:VEVENT

END:VCALENDAR
