BEGIN:VCALENDAR
VERSION:2.0
PRODID:-//hacksw/handcal//NONSGML v1.0//EN
CALSCALE:GREGORIAN
BEGIN:VTIMEZONE
TZID:Europe/Berlin
X-LIC-LOCATION:Europe/Berlin
BEGIN:DAYLIGHT
TZOFFSETFROM:+0100
TZOFFSETTO:+0200
TZNAME:CEST
DTSTART:19700329T020000
RRULE:FREQ=YEARLY;BYDAY=-1SU;BYMONTH=3
END:DAYLIGHT
BEGIN:STANDARD
TZOFFSETFROM:+0200
TZOFFSETTO:+0100
TZNAME:CET
DTSTART:19701025T030000
RRULE:FREQ=YEARLY;BYDAY=-1SU;BYMONTH=10
END:STANDARD
END:VTIMEZONE
BEGIN:VEVENT
DTEND;TZID=Europe/Berlin:20251022T130000
UID:69e7566ee076c
DTSTAMP:20260421T125022
LOCATION:Jugendhaus Wiepenkathen
DESCRIPTION:Was macht Comics eigentlich aus und wie kann man selbst einen lustigen\, aufregenden oder düsteren Comic entwerfen? Heute schauen wir uns gemeinsam die ersten Schritte an und gestalten unseren ganz eigenen Comic.\r\n\r\n
URL;VALUE=URI:https://www.unser-ferienprogramm.de/stade/veranstaltung.php?id=291690
SUMMARY:Comics zeichnen lernen
DTSTART;TZID=Europe/Berlin:20251022T110000
END:VEVENT

END:VCALENDAR
