BEGIN:VCALENDAR
VERSION:2.0
PRODID:-//hacksw/handcal//NONSGML v1.0//EN
CALSCALE:GREGORIAN
BEGIN:VTIMEZONE
TZID:Europe/Berlin
X-LIC-LOCATION:Europe/Berlin
BEGIN:DAYLIGHT
TZOFFSETFROM:+0100
TZOFFSETTO:+0200
TZNAME:CEST
DTSTART:19700329T020000
RRULE:FREQ=YEARLY;BYDAY=-1SU;BYMONTH=3
END:DAYLIGHT
BEGIN:STANDARD
TZOFFSETFROM:+0200
TZOFFSETTO:+0100
TZNAME:CET
DTSTART:19701025T030000
RRULE:FREQ=YEARLY;BYDAY=-1SU;BYMONTH=10
END:STANDARD
END:VTIMEZONE
BEGIN:VEVENT
DTEND;TZID=Europe/Berlin:20251021T130000
UID:69e753edcce62
DTSTAMP:20260421T123941
LOCATION:Jugendhaus Wiepenkathen
DESCRIPTION:Badekugeln selber machen. „Du badest gerne oder hast Lust\, ein tolles Geschenk selbst zu machen? Dann komm vorbei und stelle mit uns deine eigene Badekugel her! Bring dazu bitte eine Eierpappe oder ein paar Eierbecher mit\, damit du deine Badekugeln darin trocknen lassen kannst. 
URL;VALUE=URI:https://www.unser-ferienprogramm.de/stade/veranstaltung.php?id=291689
SUMMARY:Badekugeln selber machen
DTSTART;TZID=Europe/Berlin:20251021T110000
END:VEVENT

END:VCALENDAR
