BEGIN:VCALENDAR
VERSION:2.0
PRODID:-//hacksw/handcal//NONSGML v1.0//EN
CALSCALE:GREGORIAN
BEGIN:VTIMEZONE
TZID:Europe/Berlin
X-LIC-LOCATION:Europe/Berlin
BEGIN:DAYLIGHT
TZOFFSETFROM:+0100
TZOFFSETTO:+0200
TZNAME:CEST
DTSTART:19700329T020000
RRULE:FREQ=YEARLY;BYDAY=-1SU;BYMONTH=3
END:DAYLIGHT
BEGIN:STANDARD
TZOFFSETFROM:+0200
TZOFFSETTO:+0100
TZNAME:CET
DTSTART:19701025T030000
RRULE:FREQ=YEARLY;BYDAY=-1SU;BYMONTH=10
END:STANDARD
END:VTIMEZONE
BEGIN:VEVENT
DTEND;TZID=Europe/Berlin:20251015T130000
UID:69e75409e81ee
DTSTAMP:20260421T124009
LOCATION:Jugendhaus Wiepenkathen
DESCRIPTION: „Auf die Plätze\, fertig\, los! Wir basteln uns eigene kleine Autos aus einer Mausefalle\, Reifen und anderen Dingen und gehen dann an den Start\, um herauszufinden\, welches Auto am schnellsten fährt!“ \r\n\r\n
URL;VALUE=URI:https://www.unser-ferienprogramm.de/stade/veranstaltung.php?id=291687
SUMMARY:Mausefallenautos basteln -ABGESAGT-
DTSTART;TZID=Europe/Berlin:20251015T110000
END:VEVENT

END:VCALENDAR
