BEGIN:VCALENDAR
VERSION:2.0
PRODID:-//hacksw/handcal//NONSGML v1.0//EN
CALSCALE:GREGORIAN
BEGIN:VTIMEZONE
TZID:Europe/Berlin
X-LIC-LOCATION:Europe/Berlin
BEGIN:DAYLIGHT
TZOFFSETFROM:+0100
TZOFFSETTO:+0200
TZNAME:CEST
DTSTART:19700329T020000
RRULE:FREQ=YEARLY;BYDAY=-1SU;BYMONTH=3
END:DAYLIGHT
BEGIN:STANDARD
TZOFFSETFROM:+0200
TZOFFSETTO:+0100
TZNAME:CET
DTSTART:19701025T030000
RRULE:FREQ=YEARLY;BYDAY=-1SU;BYMONTH=10
END:STANDARD
END:VTIMEZONE
BEGIN:VEVENT
DTEND;TZID=Europe/Berlin:20251016T130000
UID:69e76bb8ec4cb
DTSTAMP:20260421T142112
LOCATION:Jugendhaus Wiepenkathen
DESCRIPTION:„Was duftet hier so gut? In unserer Küche zaubern wir köstliche Bratäpfel und genießen diese am Ende gemeinsam. 
URL;VALUE=URI:https://www.unser-ferienprogramm.de/stade/veranstaltung.php?id=291686
SUMMARY:Bratapfel backen
DTSTART;TZID=Europe/Berlin:20251016T110000
END:VEVENT

END:VCALENDAR
