BEGIN:VCALENDAR
VERSION:2.0
PRODID:-//hacksw/handcal//NONSGML v1.0//EN
CALSCALE:GREGORIAN
BEGIN:VTIMEZONE
TZID:Europe/Berlin
X-LIC-LOCATION:Europe/Berlin
BEGIN:DAYLIGHT
TZOFFSETFROM:+0100
TZOFFSETTO:+0200
TZNAME:CEST
DTSTART:19700329T020000
RRULE:FREQ=YEARLY;BYDAY=-1SU;BYMONTH=3
END:DAYLIGHT
BEGIN:STANDARD
TZOFFSETFROM:+0200
TZOFFSETTO:+0100
TZNAME:CET
DTSTART:19701025T030000
RRULE:FREQ=YEARLY;BYDAY=-1SU;BYMONTH=10
END:STANDARD
END:VTIMEZONE
BEGIN:VEVENT
DTEND;TZID=Europe/Berlin:20251014T130000
UID:69e76bbb4ec3d
DTSTAMP:20260421T142115
LOCATION:Jugendhaus Wiepenkathen
DESCRIPTION: Kastanienfiguren basteln. „Heute versuchen wir aus Kastanien bezaubernde und lustige Figuren zu basteln. Egal ob Igel\, Hund oder Spinne – wir probieren alles aus!“ Gern Kastanien\, getrocknete Blätter\, oder Eicheln zum Verzieren mitbringen.
URL;VALUE=URI:https://www.unser-ferienprogramm.de/stade/veranstaltung.php?id=291684
SUMMARY:Kastanienfiguren basteln
DTSTART;TZID=Europe/Berlin:20251014T110000
END:VEVENT

END:VCALENDAR
