BEGIN:VCALENDAR
VERSION:2.0
PRODID:-//hacksw/handcal//NONSGML v1.0//EN
CALSCALE:GREGORIAN
BEGIN:VTIMEZONE
TZID:Europe/Berlin
X-LIC-LOCATION:Europe/Berlin
BEGIN:DAYLIGHT
TZOFFSETFROM:+0100
TZOFFSETTO:+0200
TZNAME:CEST
DTSTART:19700329T020000
RRULE:FREQ=YEARLY;BYDAY=-1SU;BYMONTH=3
END:DAYLIGHT
BEGIN:STANDARD
TZOFFSETFROM:+0200
TZOFFSETTO:+0100
TZNAME:CET
DTSTART:19701025T030000
RRULE:FREQ=YEARLY;BYDAY=-1SU;BYMONTH=10
END:STANDARD
END:VTIMEZONE
BEGIN:VEVENT
DTEND;TZID=Europe/Berlin:20251014T140000
UID:69e7566783a9c
DTSTAMP:20260421T125015
LOCATION:Jugendhaus Hahle
DESCRIPTION:Willkommen in der Backstube! \r\nMehl\, Eier\, Milch\, und Backformen...... alles da zum Backen.\r\nWir backen gemeinsam leckeres!\r\n
URL;VALUE=URI:https://www.unser-ferienprogramm.de/stade/veranstaltung.php?id=291622
SUMMARY:Backen
DTSTART;TZID=Europe/Berlin:20251014T100000
END:VEVENT

END:VCALENDAR
