BEGIN:VCALENDAR
VERSION:2.0
PRODID:-//hacksw/handcal//NONSGML v1.0//EN
CALSCALE:GREGORIAN
BEGIN:VTIMEZONE
TZID:Europe/Berlin
X-LIC-LOCATION:Europe/Berlin
BEGIN:DAYLIGHT
TZOFFSETFROM:+0100
TZOFFSETTO:+0200
TZNAME:CEST
DTSTART:19700329T020000
RRULE:FREQ=YEARLY;BYDAY=-1SU;BYMONTH=3
END:DAYLIGHT
BEGIN:STANDARD
TZOFFSETFROM:+0200
TZOFFSETTO:+0100
TZNAME:CET
DTSTART:19701025T030000
RRULE:FREQ=YEARLY;BYDAY=-1SU;BYMONTH=10
END:STANDARD
END:VTIMEZONE
BEGIN:VEVENT
DTEND;TZID=Europe/Berlin:20260803T160000
UID:69e6a75a48260
DTSTAMP:20260421T002322
LOCATION:Jugendzentrum Haßlinghausen
DESCRIPTION:In dieser Ferienwoche haben 30 Kinder im Alter von 6-12 Jahren\, die Möglichkeit\, in die faszinierende Welt der afrikanischen Klänge und Rhythmen einzutauchen.\r\n\r\nDer Workshop „Die Rhythmen Afrikas“ beinhaltet musikalische und bewegungsorientierte Aktivitäten\, wie Trommeln\, Singen\, Tanzen sowie kreatives Gestalten zum Thema Afrika. Die Erfahrung aus der langjährigen positiven Zusammenarbeit mit dem Musikpädagogen Arnd Dalbeck und dem Tänzer sowie Akrobaten Obuamah Odametey\, verspricht eine tolle Ferienwoche mit viel Musik\, Bewegung und guter Laune. Arnd Dalbeck stellt seine afrikanischen Trommeln wie Djemben\, Basstrommeln und andere Percussion-Instrumente zur Verfügung\, um mit den Kindern unterschiedliche Rhythmen einzuüben\, die teilweise von fröhlichem Gesang begleitet werden. Bei vielen akrobatischen Übungen\, wie z. B. bei der Menschenpyramide\, lernen die Kinder sich gegenseitig aufeinander zu verlassen. Obuamah Odametey vermittelt die Übungen und Tanzschritte kindgerecht und mit viel guter Laune. Der Spaß an der Bewegung steht an erster Stelle.                                                                                                                                                 Kleine\, altersgerechte Einblicke in Kultur\, Land und Leute des afrikanischen Kontinents\, mit Kreativangeboten\, wie Masken- und Trommelbau oder das Herstellen von Schmuck\, runden den Workshop ab.                                                                                                                                 \r\nAm Ende der Woche wird es wieder eine Abschlusspräsentation für Freunde und Familie geben.\r\n\r\n\r\n
URL;VALUE=URI:https://www.unser-ferienprogramm.de/sprockhoevel/veranstaltung.php?id=313516
SUMMARY:TSG-Sommerferienworkshopwoche: „Die Rhythmen Afrikas“
DTSTART;TZID=Europe/Berlin:20260803T100000
END:VEVENT


BEGIN:VEVENT
DTEND;TZID=Europe/Berlin:20260804T160000
UID:69e6a75a482ab1
DTSTAMP:20260421T002322
LOCATION:Jugendzentrum Haßlinghausen
DESCRIPTION:In dieser Ferienwoche haben 30 Kinder im Alter von 6-12 Jahren\, die Möglichkeit\, in die faszinierende Welt der afrikanischen Klänge und Rhythmen einzutauchen.\r\n\r\nDer Workshop „Die Rhythmen Afrikas“ beinhaltet musikalische und bewegungsorientierte Aktivitäten\, wie Trommeln\, Singen\, Tanzen sowie kreatives Gestalten zum Thema Afrika. Die Erfahrung aus der langjährigen positiven Zusammenarbeit mit dem Musikpädagogen Arnd Dalbeck und dem Tänzer sowie Akrobaten Obuamah Odametey\, verspricht eine tolle Ferienwoche mit viel Musik\, Bewegung und guter Laune. Arnd Dalbeck stellt seine afrikanischen Trommeln wie Djemben\, Basstrommeln und andere Percussion-Instrumente zur Verfügung\, um mit den Kindern unterschiedliche Rhythmen einzuüben\, die teilweise von fröhlichem Gesang begleitet werden. Bei vielen akrobatischen Übungen\, wie z. B. bei der Menschenpyramide\, lernen die Kinder sich gegenseitig aufeinander zu verlassen. Obuamah Odametey vermittelt die Übungen und Tanzschritte kindgerecht und mit viel guter Laune. Der Spaß an der Bewegung steht an erster Stelle.                                                                                                                                                 Kleine\, altersgerechte Einblicke in Kultur\, Land und Leute des afrikanischen Kontinents\, mit Kreativangeboten\, wie Masken- und Trommelbau oder das Herstellen von Schmuck\, runden den Workshop ab.                                                                                                                                 \r\nAm Ende der Woche wird es wieder eine Abschlusspräsentation für Freunde und Familie geben.\r\n\r\n\r\n
URL;VALUE=URI:https://www.unser-ferienprogramm.de/sprockhoevel/veranstaltung.php?id=313516
SUMMARY:TSG-Sommerferienworkshopwoche: „Die Rhythmen Afrikas“
DTSTART;TZID=Europe/Berlin:20260804T100000
END:VEVENT


BEGIN:VEVENT
DTEND;TZID=Europe/Berlin:20260805T160000
UID:69e6a75a482bf2
DTSTAMP:20260421T002322
LOCATION:Jugendzentrum Haßlinghausen
DESCRIPTION:In dieser Ferienwoche haben 30 Kinder im Alter von 6-12 Jahren\, die Möglichkeit\, in die faszinierende Welt der afrikanischen Klänge und Rhythmen einzutauchen.\r\n\r\nDer Workshop „Die Rhythmen Afrikas“ beinhaltet musikalische und bewegungsorientierte Aktivitäten\, wie Trommeln\, Singen\, Tanzen sowie kreatives Gestalten zum Thema Afrika. Die Erfahrung aus der langjährigen positiven Zusammenarbeit mit dem Musikpädagogen Arnd Dalbeck und dem Tänzer sowie Akrobaten Obuamah Odametey\, verspricht eine tolle Ferienwoche mit viel Musik\, Bewegung und guter Laune. Arnd Dalbeck stellt seine afrikanischen Trommeln wie Djemben\, Basstrommeln und andere Percussion-Instrumente zur Verfügung\, um mit den Kindern unterschiedliche Rhythmen einzuüben\, die teilweise von fröhlichem Gesang begleitet werden. Bei vielen akrobatischen Übungen\, wie z. B. bei der Menschenpyramide\, lernen die Kinder sich gegenseitig aufeinander zu verlassen. Obuamah Odametey vermittelt die Übungen und Tanzschritte kindgerecht und mit viel guter Laune. Der Spaß an der Bewegung steht an erster Stelle.                                                                                                                                                 Kleine\, altersgerechte Einblicke in Kultur\, Land und Leute des afrikanischen Kontinents\, mit Kreativangeboten\, wie Masken- und Trommelbau oder das Herstellen von Schmuck\, runden den Workshop ab.                                                                                                                                 \r\nAm Ende der Woche wird es wieder eine Abschlusspräsentation für Freunde und Familie geben.\r\n\r\n\r\n
URL;VALUE=URI:https://www.unser-ferienprogramm.de/sprockhoevel/veranstaltung.php?id=313516
SUMMARY:TSG-Sommerferienworkshopwoche: „Die Rhythmen Afrikas“
DTSTART;TZID=Europe/Berlin:20260805T100000
END:VEVENT


BEGIN:VEVENT
DTEND;TZID=Europe/Berlin:20260806T160000
UID:69e6a75a482cf3
DTSTAMP:20260421T002322
LOCATION:Jugendzentrum Haßlinghausen
DESCRIPTION:In dieser Ferienwoche haben 30 Kinder im Alter von 6-12 Jahren\, die Möglichkeit\, in die faszinierende Welt der afrikanischen Klänge und Rhythmen einzutauchen.\r\n\r\nDer Workshop „Die Rhythmen Afrikas“ beinhaltet musikalische und bewegungsorientierte Aktivitäten\, wie Trommeln\, Singen\, Tanzen sowie kreatives Gestalten zum Thema Afrika. Die Erfahrung aus der langjährigen positiven Zusammenarbeit mit dem Musikpädagogen Arnd Dalbeck und dem Tänzer sowie Akrobaten Obuamah Odametey\, verspricht eine tolle Ferienwoche mit viel Musik\, Bewegung und guter Laune. Arnd Dalbeck stellt seine afrikanischen Trommeln wie Djemben\, Basstrommeln und andere Percussion-Instrumente zur Verfügung\, um mit den Kindern unterschiedliche Rhythmen einzuüben\, die teilweise von fröhlichem Gesang begleitet werden. Bei vielen akrobatischen Übungen\, wie z. B. bei der Menschenpyramide\, lernen die Kinder sich gegenseitig aufeinander zu verlassen. Obuamah Odametey vermittelt die Übungen und Tanzschritte kindgerecht und mit viel guter Laune. Der Spaß an der Bewegung steht an erster Stelle.                                                                                                                                                 Kleine\, altersgerechte Einblicke in Kultur\, Land und Leute des afrikanischen Kontinents\, mit Kreativangeboten\, wie Masken- und Trommelbau oder das Herstellen von Schmuck\, runden den Workshop ab.                                                                                                                                 \r\nAm Ende der Woche wird es wieder eine Abschlusspräsentation für Freunde und Familie geben.\r\n\r\n\r\n
URL;VALUE=URI:https://www.unser-ferienprogramm.de/sprockhoevel/veranstaltung.php?id=313516
SUMMARY:TSG-Sommerferienworkshopwoche: „Die Rhythmen Afrikas“
DTSTART;TZID=Europe/Berlin:20260806T100000
END:VEVENT


BEGIN:VEVENT
DTEND;TZID=Europe/Berlin:20260807T160000
UID:69e6a75a482df4
DTSTAMP:20260421T002322
LOCATION:Jugendzentrum Haßlinghausen
DESCRIPTION:In dieser Ferienwoche haben 30 Kinder im Alter von 6-12 Jahren\, die Möglichkeit\, in die faszinierende Welt der afrikanischen Klänge und Rhythmen einzutauchen.\r\n\r\nDer Workshop „Die Rhythmen Afrikas“ beinhaltet musikalische und bewegungsorientierte Aktivitäten\, wie Trommeln\, Singen\, Tanzen sowie kreatives Gestalten zum Thema Afrika. Die Erfahrung aus der langjährigen positiven Zusammenarbeit mit dem Musikpädagogen Arnd Dalbeck und dem Tänzer sowie Akrobaten Obuamah Odametey\, verspricht eine tolle Ferienwoche mit viel Musik\, Bewegung und guter Laune. Arnd Dalbeck stellt seine afrikanischen Trommeln wie Djemben\, Basstrommeln und andere Percussion-Instrumente zur Verfügung\, um mit den Kindern unterschiedliche Rhythmen einzuüben\, die teilweise von fröhlichem Gesang begleitet werden. Bei vielen akrobatischen Übungen\, wie z. B. bei der Menschenpyramide\, lernen die Kinder sich gegenseitig aufeinander zu verlassen. Obuamah Odametey vermittelt die Übungen und Tanzschritte kindgerecht und mit viel guter Laune. Der Spaß an der Bewegung steht an erster Stelle.                                                                                                                                                 Kleine\, altersgerechte Einblicke in Kultur\, Land und Leute des afrikanischen Kontinents\, mit Kreativangeboten\, wie Masken- und Trommelbau oder das Herstellen von Schmuck\, runden den Workshop ab.                                                                                                                                 \r\nAm Ende der Woche wird es wieder eine Abschlusspräsentation für Freunde und Familie geben.\r\n\r\n\r\n
URL;VALUE=URI:https://www.unser-ferienprogramm.de/sprockhoevel/veranstaltung.php?id=313516
SUMMARY:TSG-Sommerferienworkshopwoche: „Die Rhythmen Afrikas“
DTSTART;TZID=Europe/Berlin:20260807T100000
END:VEVENT

END:VCALENDAR
