BEGIN:VCALENDAR
VERSION:2.0
PRODID:-//hacksw/handcal//NONSGML v1.0//EN
CALSCALE:GREGORIAN
BEGIN:VTIMEZONE
TZID:Europe/Berlin
X-LIC-LOCATION:Europe/Berlin
BEGIN:DAYLIGHT
TZOFFSETFROM:+0100
TZOFFSETTO:+0200
TZNAME:CEST
DTSTART:19700329T020000
RRULE:FREQ=YEARLY;BYDAY=-1SU;BYMONTH=3
END:DAYLIGHT
BEGIN:STANDARD
TZOFFSETFROM:+0200
TZOFFSETTO:+0100
TZNAME:CET
DTSTART:19701025T030000
RRULE:FREQ=YEARLY;BYDAY=-1SU;BYMONTH=10
END:STANDARD
END:VTIMEZONE
BEGIN:VEVENT
DTEND;TZID=Europe/Berlin:20260720T160000
UID:69e694215af00
DTSTAMP:20260420T230121
LOCATION:Jugendzentrum Haßlinghausen 
DESCRIPTION:Dieses Jahr stehen die Sommerabenteuerwochen unter dem Motto "Piraten" mit jeder Menge Spaß und Action. \r\nDie Kinder werden ihr eigenes kleines Piratenlager errichten. Hierzu wird ein Karton- Bausystem (Makedo) eingesetzt. Mit dem Karton-Konstruktionsspielzeug\, das aus wieder verwendbaren Werkzeugen besteht\, können Modelle\, wie Piratenschiffe\, Galionsfiguren und vieles mehr gebaut werden. Zusätzliche Spiel- und Bastelaktionen sind geplant\, die das Piratenleben für alle zu einem kleinen Abenteuer machen\, wie das Herstellen von typischer Piratenkleidung und Zubehör\, Fernrohre und Schatzsäckchen\, das Erstellen von Schatzkarten\, das Erlernen der kleinen Knotenkunde\, eine Piratenrallye mit Schatzsuche\, der Einsatz eines Wassereventmoduls\, so wie eine große Wasserrutsche. \r\nZudem wird in der ersten Woche ein Ausflug zum Minigolfplatz an der Ruhr angeboten und in der zweiten Woche ein Ausflug zum Ketteler Hof in Haltern am See. \r\nAm letzten Tag schließen die Piratenlager mit der Piratenprüfung ab. Hierbei gilt es verschiedene Aufgaben zu lösen\, wie über die Planke laufen\, verschiedene Seemannsknoten knoten\, Schatztauchen\, Zitronen gegen Skorbut essen\, Enterhaken werfen und alte Flaschenpost entziffern.\r\n
URL;VALUE=URI:https://www.unser-ferienprogramm.de/sprockhoevel/veranstaltung.php?id=313507
SUMMARY:TSG-SommerAbenteuerWochen Haßlinghausen 
DTSTART;TZID=Europe/Berlin:20260720T100000
END:VEVENT


BEGIN:VEVENT
DTEND;TZID=Europe/Berlin:20260721T160000
UID:69e694215af461
DTSTAMP:20260420T230121
LOCATION:Jugendzentrum Haßlinghausen 
DESCRIPTION:Dieses Jahr stehen die Sommerabenteuerwochen unter dem Motto "Piraten" mit jeder Menge Spaß und Action. \r\nDie Kinder werden ihr eigenes kleines Piratenlager errichten. Hierzu wird ein Karton- Bausystem (Makedo) eingesetzt. Mit dem Karton-Konstruktionsspielzeug\, das aus wieder verwendbaren Werkzeugen besteht\, können Modelle\, wie Piratenschiffe\, Galionsfiguren und vieles mehr gebaut werden. Zusätzliche Spiel- und Bastelaktionen sind geplant\, die das Piratenleben für alle zu einem kleinen Abenteuer machen\, wie das Herstellen von typischer Piratenkleidung und Zubehör\, Fernrohre und Schatzsäckchen\, das Erstellen von Schatzkarten\, das Erlernen der kleinen Knotenkunde\, eine Piratenrallye mit Schatzsuche\, der Einsatz eines Wassereventmoduls\, so wie eine große Wasserrutsche. \r\nZudem wird in der ersten Woche ein Ausflug zum Minigolfplatz an der Ruhr angeboten und in der zweiten Woche ein Ausflug zum Ketteler Hof in Haltern am See. \r\nAm letzten Tag schließen die Piratenlager mit der Piratenprüfung ab. Hierbei gilt es verschiedene Aufgaben zu lösen\, wie über die Planke laufen\, verschiedene Seemannsknoten knoten\, Schatztauchen\, Zitronen gegen Skorbut essen\, Enterhaken werfen und alte Flaschenpost entziffern.\r\n
URL;VALUE=URI:https://www.unser-ferienprogramm.de/sprockhoevel/veranstaltung.php?id=313507
SUMMARY:TSG-SommerAbenteuerWochen Haßlinghausen 
DTSTART;TZID=Europe/Berlin:20260721T100000
END:VEVENT


BEGIN:VEVENT
DTEND;TZID=Europe/Berlin:20260722T160000
UID:69e694215af592
DTSTAMP:20260420T230121
LOCATION:Jugendzentrum Haßlinghausen 
DESCRIPTION:Dieses Jahr stehen die Sommerabenteuerwochen unter dem Motto "Piraten" mit jeder Menge Spaß und Action. \r\nDie Kinder werden ihr eigenes kleines Piratenlager errichten. Hierzu wird ein Karton- Bausystem (Makedo) eingesetzt. Mit dem Karton-Konstruktionsspielzeug\, das aus wieder verwendbaren Werkzeugen besteht\, können Modelle\, wie Piratenschiffe\, Galionsfiguren und vieles mehr gebaut werden. Zusätzliche Spiel- und Bastelaktionen sind geplant\, die das Piratenleben für alle zu einem kleinen Abenteuer machen\, wie das Herstellen von typischer Piratenkleidung und Zubehör\, Fernrohre und Schatzsäckchen\, das Erstellen von Schatzkarten\, das Erlernen der kleinen Knotenkunde\, eine Piratenrallye mit Schatzsuche\, der Einsatz eines Wassereventmoduls\, so wie eine große Wasserrutsche. \r\nZudem wird in der ersten Woche ein Ausflug zum Minigolfplatz an der Ruhr angeboten und in der zweiten Woche ein Ausflug zum Ketteler Hof in Haltern am See. \r\nAm letzten Tag schließen die Piratenlager mit der Piratenprüfung ab. Hierbei gilt es verschiedene Aufgaben zu lösen\, wie über die Planke laufen\, verschiedene Seemannsknoten knoten\, Schatztauchen\, Zitronen gegen Skorbut essen\, Enterhaken werfen und alte Flaschenpost entziffern.\r\n
URL;VALUE=URI:https://www.unser-ferienprogramm.de/sprockhoevel/veranstaltung.php?id=313507
SUMMARY:TSG-SommerAbenteuerWochen Haßlinghausen 
DTSTART;TZID=Europe/Berlin:20260722T100000
END:VEVENT


BEGIN:VEVENT
DTEND;TZID=Europe/Berlin:20260723T160000
UID:69e694215af693
DTSTAMP:20260420T230121
LOCATION:Jugendzentrum Haßlinghausen 
DESCRIPTION:Dieses Jahr stehen die Sommerabenteuerwochen unter dem Motto "Piraten" mit jeder Menge Spaß und Action. \r\nDie Kinder werden ihr eigenes kleines Piratenlager errichten. Hierzu wird ein Karton- Bausystem (Makedo) eingesetzt. Mit dem Karton-Konstruktionsspielzeug\, das aus wieder verwendbaren Werkzeugen besteht\, können Modelle\, wie Piratenschiffe\, Galionsfiguren und vieles mehr gebaut werden. Zusätzliche Spiel- und Bastelaktionen sind geplant\, die das Piratenleben für alle zu einem kleinen Abenteuer machen\, wie das Herstellen von typischer Piratenkleidung und Zubehör\, Fernrohre und Schatzsäckchen\, das Erstellen von Schatzkarten\, das Erlernen der kleinen Knotenkunde\, eine Piratenrallye mit Schatzsuche\, der Einsatz eines Wassereventmoduls\, so wie eine große Wasserrutsche. \r\nZudem wird in der ersten Woche ein Ausflug zum Minigolfplatz an der Ruhr angeboten und in der zweiten Woche ein Ausflug zum Ketteler Hof in Haltern am See. \r\nAm letzten Tag schließen die Piratenlager mit der Piratenprüfung ab. Hierbei gilt es verschiedene Aufgaben zu lösen\, wie über die Planke laufen\, verschiedene Seemannsknoten knoten\, Schatztauchen\, Zitronen gegen Skorbut essen\, Enterhaken werfen und alte Flaschenpost entziffern.\r\n
URL;VALUE=URI:https://www.unser-ferienprogramm.de/sprockhoevel/veranstaltung.php?id=313507
SUMMARY:TSG-SommerAbenteuerWochen Haßlinghausen 
DTSTART;TZID=Europe/Berlin:20260723T100000
END:VEVENT


BEGIN:VEVENT
DTEND;TZID=Europe/Berlin:20260724T160000
UID:69e694215af784
DTSTAMP:20260420T230121
LOCATION:Jugendzentrum Haßlinghausen 
DESCRIPTION:Dieses Jahr stehen die Sommerabenteuerwochen unter dem Motto "Piraten" mit jeder Menge Spaß und Action. \r\nDie Kinder werden ihr eigenes kleines Piratenlager errichten. Hierzu wird ein Karton- Bausystem (Makedo) eingesetzt. Mit dem Karton-Konstruktionsspielzeug\, das aus wieder verwendbaren Werkzeugen besteht\, können Modelle\, wie Piratenschiffe\, Galionsfiguren und vieles mehr gebaut werden. Zusätzliche Spiel- und Bastelaktionen sind geplant\, die das Piratenleben für alle zu einem kleinen Abenteuer machen\, wie das Herstellen von typischer Piratenkleidung und Zubehör\, Fernrohre und Schatzsäckchen\, das Erstellen von Schatzkarten\, das Erlernen der kleinen Knotenkunde\, eine Piratenrallye mit Schatzsuche\, der Einsatz eines Wassereventmoduls\, so wie eine große Wasserrutsche. \r\nZudem wird in der ersten Woche ein Ausflug zum Minigolfplatz an der Ruhr angeboten und in der zweiten Woche ein Ausflug zum Ketteler Hof in Haltern am See. \r\nAm letzten Tag schließen die Piratenlager mit der Piratenprüfung ab. Hierbei gilt es verschiedene Aufgaben zu lösen\, wie über die Planke laufen\, verschiedene Seemannsknoten knoten\, Schatztauchen\, Zitronen gegen Skorbut essen\, Enterhaken werfen und alte Flaschenpost entziffern.\r\n
URL;VALUE=URI:https://www.unser-ferienprogramm.de/sprockhoevel/veranstaltung.php?id=313507
SUMMARY:TSG-SommerAbenteuerWochen Haßlinghausen 
DTSTART;TZID=Europe/Berlin:20260724T100000
END:VEVENT


BEGIN:VEVENT
DTEND;TZID=Europe/Berlin:20260727T160000
UID:69e694215af865
DTSTAMP:20260420T230121
LOCATION:Jugendzentrum Haßlinghausen 
DESCRIPTION:Dieses Jahr stehen die Sommerabenteuerwochen unter dem Motto "Piraten" mit jeder Menge Spaß und Action. \r\nDie Kinder werden ihr eigenes kleines Piratenlager errichten. Hierzu wird ein Karton- Bausystem (Makedo) eingesetzt. Mit dem Karton-Konstruktionsspielzeug\, das aus wieder verwendbaren Werkzeugen besteht\, können Modelle\, wie Piratenschiffe\, Galionsfiguren und vieles mehr gebaut werden. Zusätzliche Spiel- und Bastelaktionen sind geplant\, die das Piratenleben für alle zu einem kleinen Abenteuer machen\, wie das Herstellen von typischer Piratenkleidung und Zubehör\, Fernrohre und Schatzsäckchen\, das Erstellen von Schatzkarten\, das Erlernen der kleinen Knotenkunde\, eine Piratenrallye mit Schatzsuche\, der Einsatz eines Wassereventmoduls\, so wie eine große Wasserrutsche. \r\nZudem wird in der ersten Woche ein Ausflug zum Minigolfplatz an der Ruhr angeboten und in der zweiten Woche ein Ausflug zum Ketteler Hof in Haltern am See. \r\nAm letzten Tag schließen die Piratenlager mit der Piratenprüfung ab. Hierbei gilt es verschiedene Aufgaben zu lösen\, wie über die Planke laufen\, verschiedene Seemannsknoten knoten\, Schatztauchen\, Zitronen gegen Skorbut essen\, Enterhaken werfen und alte Flaschenpost entziffern.\r\n
URL;VALUE=URI:https://www.unser-ferienprogramm.de/sprockhoevel/veranstaltung.php?id=313507
SUMMARY:TSG-SommerAbenteuerWochen Haßlinghausen 
DTSTART;TZID=Europe/Berlin:20260727T100000
END:VEVENT


BEGIN:VEVENT
DTEND;TZID=Europe/Berlin:20260728T160000
UID:69e694215af946
DTSTAMP:20260420T230121
LOCATION:Jugendzentrum Haßlinghausen 
DESCRIPTION:Dieses Jahr stehen die Sommerabenteuerwochen unter dem Motto "Piraten" mit jeder Menge Spaß und Action. \r\nDie Kinder werden ihr eigenes kleines Piratenlager errichten. Hierzu wird ein Karton- Bausystem (Makedo) eingesetzt. Mit dem Karton-Konstruktionsspielzeug\, das aus wieder verwendbaren Werkzeugen besteht\, können Modelle\, wie Piratenschiffe\, Galionsfiguren und vieles mehr gebaut werden. Zusätzliche Spiel- und Bastelaktionen sind geplant\, die das Piratenleben für alle zu einem kleinen Abenteuer machen\, wie das Herstellen von typischer Piratenkleidung und Zubehör\, Fernrohre und Schatzsäckchen\, das Erstellen von Schatzkarten\, das Erlernen der kleinen Knotenkunde\, eine Piratenrallye mit Schatzsuche\, der Einsatz eines Wassereventmoduls\, so wie eine große Wasserrutsche. \r\nZudem wird in der ersten Woche ein Ausflug zum Minigolfplatz an der Ruhr angeboten und in der zweiten Woche ein Ausflug zum Ketteler Hof in Haltern am See. \r\nAm letzten Tag schließen die Piratenlager mit der Piratenprüfung ab. Hierbei gilt es verschiedene Aufgaben zu lösen\, wie über die Planke laufen\, verschiedene Seemannsknoten knoten\, Schatztauchen\, Zitronen gegen Skorbut essen\, Enterhaken werfen und alte Flaschenpost entziffern.\r\n
URL;VALUE=URI:https://www.unser-ferienprogramm.de/sprockhoevel/veranstaltung.php?id=313507
SUMMARY:TSG-SommerAbenteuerWochen Haßlinghausen 
DTSTART;TZID=Europe/Berlin:20260728T100000
END:VEVENT


BEGIN:VEVENT
DTEND;TZID=Europe/Berlin:20260729T160000
UID:69e694215afa27
DTSTAMP:20260420T230121
LOCATION:Jugendzentrum Haßlinghausen 
DESCRIPTION:Dieses Jahr stehen die Sommerabenteuerwochen unter dem Motto "Piraten" mit jeder Menge Spaß und Action. \r\nDie Kinder werden ihr eigenes kleines Piratenlager errichten. Hierzu wird ein Karton- Bausystem (Makedo) eingesetzt. Mit dem Karton-Konstruktionsspielzeug\, das aus wieder verwendbaren Werkzeugen besteht\, können Modelle\, wie Piratenschiffe\, Galionsfiguren und vieles mehr gebaut werden. Zusätzliche Spiel- und Bastelaktionen sind geplant\, die das Piratenleben für alle zu einem kleinen Abenteuer machen\, wie das Herstellen von typischer Piratenkleidung und Zubehör\, Fernrohre und Schatzsäckchen\, das Erstellen von Schatzkarten\, das Erlernen der kleinen Knotenkunde\, eine Piratenrallye mit Schatzsuche\, der Einsatz eines Wassereventmoduls\, so wie eine große Wasserrutsche. \r\nZudem wird in der ersten Woche ein Ausflug zum Minigolfplatz an der Ruhr angeboten und in der zweiten Woche ein Ausflug zum Ketteler Hof in Haltern am See. \r\nAm letzten Tag schließen die Piratenlager mit der Piratenprüfung ab. Hierbei gilt es verschiedene Aufgaben zu lösen\, wie über die Planke laufen\, verschiedene Seemannsknoten knoten\, Schatztauchen\, Zitronen gegen Skorbut essen\, Enterhaken werfen und alte Flaschenpost entziffern.\r\n
URL;VALUE=URI:https://www.unser-ferienprogramm.de/sprockhoevel/veranstaltung.php?id=313507
SUMMARY:TSG-SommerAbenteuerWochen Haßlinghausen 
DTSTART;TZID=Europe/Berlin:20260729T100000
END:VEVENT


BEGIN:VEVENT
DTEND;TZID=Europe/Berlin:20260730T160000
UID:69e694215afaf8
DTSTAMP:20260420T230121
LOCATION:Jugendzentrum Haßlinghausen 
DESCRIPTION:Dieses Jahr stehen die Sommerabenteuerwochen unter dem Motto "Piraten" mit jeder Menge Spaß und Action. \r\nDie Kinder werden ihr eigenes kleines Piratenlager errichten. Hierzu wird ein Karton- Bausystem (Makedo) eingesetzt. Mit dem Karton-Konstruktionsspielzeug\, das aus wieder verwendbaren Werkzeugen besteht\, können Modelle\, wie Piratenschiffe\, Galionsfiguren und vieles mehr gebaut werden. Zusätzliche Spiel- und Bastelaktionen sind geplant\, die das Piratenleben für alle zu einem kleinen Abenteuer machen\, wie das Herstellen von typischer Piratenkleidung und Zubehör\, Fernrohre und Schatzsäckchen\, das Erstellen von Schatzkarten\, das Erlernen der kleinen Knotenkunde\, eine Piratenrallye mit Schatzsuche\, der Einsatz eines Wassereventmoduls\, so wie eine große Wasserrutsche. \r\nZudem wird in der ersten Woche ein Ausflug zum Minigolfplatz an der Ruhr angeboten und in der zweiten Woche ein Ausflug zum Ketteler Hof in Haltern am See. \r\nAm letzten Tag schließen die Piratenlager mit der Piratenprüfung ab. Hierbei gilt es verschiedene Aufgaben zu lösen\, wie über die Planke laufen\, verschiedene Seemannsknoten knoten\, Schatztauchen\, Zitronen gegen Skorbut essen\, Enterhaken werfen und alte Flaschenpost entziffern.\r\n
URL;VALUE=URI:https://www.unser-ferienprogramm.de/sprockhoevel/veranstaltung.php?id=313507
SUMMARY:TSG-SommerAbenteuerWochen Haßlinghausen 
DTSTART;TZID=Europe/Berlin:20260730T100000
END:VEVENT


BEGIN:VEVENT
DTEND;TZID=Europe/Berlin:20260731T160000
UID:69e694215afbd9
DTSTAMP:20260420T230121
LOCATION:Jugendzentrum Haßlinghausen 
DESCRIPTION:Dieses Jahr stehen die Sommerabenteuerwochen unter dem Motto "Piraten" mit jeder Menge Spaß und Action. \r\nDie Kinder werden ihr eigenes kleines Piratenlager errichten. Hierzu wird ein Karton- Bausystem (Makedo) eingesetzt. Mit dem Karton-Konstruktionsspielzeug\, das aus wieder verwendbaren Werkzeugen besteht\, können Modelle\, wie Piratenschiffe\, Galionsfiguren und vieles mehr gebaut werden. Zusätzliche Spiel- und Bastelaktionen sind geplant\, die das Piratenleben für alle zu einem kleinen Abenteuer machen\, wie das Herstellen von typischer Piratenkleidung und Zubehör\, Fernrohre und Schatzsäckchen\, das Erstellen von Schatzkarten\, das Erlernen der kleinen Knotenkunde\, eine Piratenrallye mit Schatzsuche\, der Einsatz eines Wassereventmoduls\, so wie eine große Wasserrutsche. \r\nZudem wird in der ersten Woche ein Ausflug zum Minigolfplatz an der Ruhr angeboten und in der zweiten Woche ein Ausflug zum Ketteler Hof in Haltern am See. \r\nAm letzten Tag schließen die Piratenlager mit der Piratenprüfung ab. Hierbei gilt es verschiedene Aufgaben zu lösen\, wie über die Planke laufen\, verschiedene Seemannsknoten knoten\, Schatztauchen\, Zitronen gegen Skorbut essen\, Enterhaken werfen und alte Flaschenpost entziffern.\r\n
URL;VALUE=URI:https://www.unser-ferienprogramm.de/sprockhoevel/veranstaltung.php?id=313507
SUMMARY:TSG-SommerAbenteuerWochen Haßlinghausen 
DTSTART;TZID=Europe/Berlin:20260731T100000
END:VEVENT

END:VCALENDAR
