BEGIN:VCALENDAR
VERSION:2.0
PRODID:-//hacksw/handcal//NONSGML v1.0//EN
CALSCALE:GREGORIAN
BEGIN:VTIMEZONE
TZID:Europe/Berlin
X-LIC-LOCATION:Europe/Berlin
BEGIN:DAYLIGHT
TZOFFSETFROM:+0100
TZOFFSETTO:+0200
TZNAME:CEST
DTSTART:19700329T020000
RRULE:FREQ=YEARLY;BYDAY=-1SU;BYMONTH=3
END:DAYLIGHT
BEGIN:STANDARD
TZOFFSETFROM:+0200
TZOFFSETTO:+0100
TZNAME:CET
DTSTART:19701025T030000
RRULE:FREQ=YEARLY;BYDAY=-1SU;BYMONTH=10
END:STANDARD
END:VTIMEZONE
BEGIN:VEVENT
DTEND;TZID=Europe/Berlin:20260824T160000
UID:69e6941861ecf
DTSTAMP:20260420T230112
LOCATION:Mathilde-Anneke-Schule Niedersprockhövel
DESCRIPTION:WICHTIG:\r\nDie Anmeldung erfolgt extern über: \r\nhttps://www.xundinsleben.at/Feriencamps/Informationen-2/anmeldung\r\n\r\nAbgestimmt auf das Alter der teilnehmenden Kinder stehen neben dem\r\nSpaß am Sport nachfolgende Programmschwerpunkte im Mittelpunkt: coole\r\nTrend- & Summersports\, Natur & Abenteuer\, Fun- & Teamsports\,\r\nInternational Sports\, Bewegungskünste\, Tanz & Rhythmus\, kreatives\r\nGestalten\, Fitness & Gesundheit u.v.m.\r\n\r\n
URL;VALUE=URI:https://www.unser-ferienprogramm.de/sprockhoevel/veranstaltung.php?id=313173
SUMMARY:Xund ins Leben Erlebnissportwoche Niedersprockhövel
DTSTART;TZID=Europe/Berlin:20260824T080000
END:VEVENT


BEGIN:VEVENT
DTEND;TZID=Europe/Berlin:20260825T160000
UID:69e6941861f021
DTSTAMP:20260420T230112
LOCATION:Mathilde-Anneke-Schule Niedersprockhövel
DESCRIPTION:WICHTIG:\r\nDie Anmeldung erfolgt extern über: \r\nhttps://www.xundinsleben.at/Feriencamps/Informationen-2/anmeldung\r\n\r\nAbgestimmt auf das Alter der teilnehmenden Kinder stehen neben dem\r\nSpaß am Sport nachfolgende Programmschwerpunkte im Mittelpunkt: coole\r\nTrend- & Summersports\, Natur & Abenteuer\, Fun- & Teamsports\,\r\nInternational Sports\, Bewegungskünste\, Tanz & Rhythmus\, kreatives\r\nGestalten\, Fitness & Gesundheit u.v.m.\r\n\r\n
URL;VALUE=URI:https://www.unser-ferienprogramm.de/sprockhoevel/veranstaltung.php?id=313173
SUMMARY:Xund ins Leben Erlebnissportwoche Niedersprockhövel
DTSTART;TZID=Europe/Berlin:20260825T080000
END:VEVENT


BEGIN:VEVENT
DTEND;TZID=Europe/Berlin:20260826T160000
UID:69e6941861f102
DTSTAMP:20260420T230112
LOCATION:Mathilde-Anneke-Schule Niedersprockhövel
DESCRIPTION:WICHTIG:\r\nDie Anmeldung erfolgt extern über: \r\nhttps://www.xundinsleben.at/Feriencamps/Informationen-2/anmeldung\r\n\r\nAbgestimmt auf das Alter der teilnehmenden Kinder stehen neben dem\r\nSpaß am Sport nachfolgende Programmschwerpunkte im Mittelpunkt: coole\r\nTrend- & Summersports\, Natur & Abenteuer\, Fun- & Teamsports\,\r\nInternational Sports\, Bewegungskünste\, Tanz & Rhythmus\, kreatives\r\nGestalten\, Fitness & Gesundheit u.v.m.\r\n\r\n
URL;VALUE=URI:https://www.unser-ferienprogramm.de/sprockhoevel/veranstaltung.php?id=313173
SUMMARY:Xund ins Leben Erlebnissportwoche Niedersprockhövel
DTSTART;TZID=Europe/Berlin:20260826T080000
END:VEVENT


BEGIN:VEVENT
DTEND;TZID=Europe/Berlin:20260827T160000
UID:69e6941861f1b3
DTSTAMP:20260420T230112
LOCATION:Mathilde-Anneke-Schule Niedersprockhövel
DESCRIPTION:WICHTIG:\r\nDie Anmeldung erfolgt extern über: \r\nhttps://www.xundinsleben.at/Feriencamps/Informationen-2/anmeldung\r\n\r\nAbgestimmt auf das Alter der teilnehmenden Kinder stehen neben dem\r\nSpaß am Sport nachfolgende Programmschwerpunkte im Mittelpunkt: coole\r\nTrend- & Summersports\, Natur & Abenteuer\, Fun- & Teamsports\,\r\nInternational Sports\, Bewegungskünste\, Tanz & Rhythmus\, kreatives\r\nGestalten\, Fitness & Gesundheit u.v.m.\r\n\r\n
URL;VALUE=URI:https://www.unser-ferienprogramm.de/sprockhoevel/veranstaltung.php?id=313173
SUMMARY:Xund ins Leben Erlebnissportwoche Niedersprockhövel
DTSTART;TZID=Europe/Berlin:20260827T080000
END:VEVENT


BEGIN:VEVENT
DTEND;TZID=Europe/Berlin:20260828T140000
UID:69e6941861f254
DTSTAMP:20260420T230112
LOCATION:Mathilde-Anneke-Schule Niedersprockhövel
DESCRIPTION:WICHTIG:\r\nDie Anmeldung erfolgt extern über: \r\nhttps://www.xundinsleben.at/Feriencamps/Informationen-2/anmeldung\r\n\r\nAbgestimmt auf das Alter der teilnehmenden Kinder stehen neben dem\r\nSpaß am Sport nachfolgende Programmschwerpunkte im Mittelpunkt: coole\r\nTrend- & Summersports\, Natur & Abenteuer\, Fun- & Teamsports\,\r\nInternational Sports\, Bewegungskünste\, Tanz & Rhythmus\, kreatives\r\nGestalten\, Fitness & Gesundheit u.v.m.\r\n\r\n
URL;VALUE=URI:https://www.unser-ferienprogramm.de/sprockhoevel/veranstaltung.php?id=313173
SUMMARY:Xund ins Leben Erlebnissportwoche Niedersprockhövel
DTSTART;TZID=Europe/Berlin:20260828T080000
END:VEVENT

END:VCALENDAR
