BEGIN:VCALENDAR
VERSION:2.0
PRODID:-//hacksw/handcal//NONSGML v1.0//EN
CALSCALE:GREGORIAN
BEGIN:VTIMEZONE
TZID:Europe/Berlin
X-LIC-LOCATION:Europe/Berlin
BEGIN:DAYLIGHT
TZOFFSETFROM:+0100
TZOFFSETTO:+0200
TZNAME:CEST
DTSTART:19700329T020000
RRULE:FREQ=YEARLY;BYDAY=-1SU;BYMONTH=3
END:DAYLIGHT
BEGIN:STANDARD
TZOFFSETFROM:+0200
TZOFFSETTO:+0100
TZNAME:CET
DTSTART:19701025T030000
RRULE:FREQ=YEARLY;BYDAY=-1SU;BYMONTH=10
END:STANDARD
END:VTIMEZONE
BEGIN:VEVENT
DTEND;TZID=Europe/Berlin:20260603T170000
UID:69eb58e9efdf9
DTSTAMP:20260424T135001
LOCATION:Horlach
DESCRIPTION:Mit unseren Kleinbussen geht es nach Horlach bei Kronach. Dort unternehmen wir eine spaßige Wanderung mit Alpakas. Im Anschluss besuchen wir noch den Spielplatz auf dem ehemaligen Landesgartenschaugelände.\r\n\r\nKinder und Jugendliche aus den Ortsteilen werden auch dort abgeholt.\r\n
URL;VALUE=URI:https://www.unser-ferienprogramm.de/sonnefeld/veranstaltung.php?id=318382
SUMMARY:Alpakawanderung Kronach
DTSTART;TZID=Europe/Berlin:20260603T090000
END:VEVENT

END:VCALENDAR
