BEGIN:VCALENDAR
VERSION:2.0
PRODID:-//hacksw/handcal//NONSGML v1.0//EN
CALSCALE:GREGORIAN
BEGIN:VTIMEZONE
TZID:Europe/Berlin
X-LIC-LOCATION:Europe/Berlin
BEGIN:DAYLIGHT
TZOFFSETFROM:+0100
TZOFFSETTO:+0200
TZNAME:CEST
DTSTART:19700329T020000
RRULE:FREQ=YEARLY;BYDAY=-1SU;BYMONTH=3
END:DAYLIGHT
BEGIN:STANDARD
TZOFFSETFROM:+0200
TZOFFSETTO:+0100
TZNAME:CET
DTSTART:19701025T030000
RRULE:FREQ=YEARLY;BYDAY=-1SU;BYMONTH=10
END:STANDARD
END:VTIMEZONE
BEGIN:VEVENT
DTEND;TZID=Europe/Berlin:20260602T170000
UID:69eb561ee97d6
DTSTAMP:20260424T133806
LOCATION:Veßra
DESCRIPTION:Heute erwartet euch eine andere Welt. Bei unserem Rundgang über das tolle Gelände erfahren wir einiges darüber\, wie die Menschen früher so gelebt haben. Außerdem experimentieren wir mit Wasserkraft und basteln Wassermühlen für daheim. Die restliche Zeit verbringen wir dann auf dem Spielplatz und in der Spielscheune des Museums.\r\n\r\nKinder und Jugendliche aus den Ortsteilen werden dort abgeholt.\r\n
URL;VALUE=URI:https://www.unser-ferienprogramm.de/sonnefeld/veranstaltung.php?id=318349
SUMMARY:Museum Kloster Veßra - Experimente mit Wasserkraft
DTSTART;TZID=Europe/Berlin:20260602T090000
END:VEVENT

END:VCALENDAR
