BEGIN:VCALENDAR
VERSION:2.0
PRODID:-//hacksw/handcal//NONSGML v1.0//EN
CALSCALE:GREGORIAN
BEGIN:VTIMEZONE
TZID:Europe/Berlin
X-LIC-LOCATION:Europe/Berlin
BEGIN:DAYLIGHT
TZOFFSETFROM:+0100
TZOFFSETTO:+0200
TZNAME:CEST
DTSTART:19700329T020000
RRULE:FREQ=YEARLY;BYDAY=-1SU;BYMONTH=3
END:DAYLIGHT
BEGIN:STANDARD
TZOFFSETFROM:+0200
TZOFFSETTO:+0100
TZNAME:CET
DTSTART:19701025T030000
RRULE:FREQ=YEARLY;BYDAY=-1SU;BYMONTH=10
END:STANDARD
END:VTIMEZONE
BEGIN:VEVENT
DTEND;TZID=Europe/Berlin:20260601T170000
UID:69eb56d315c6c
DTSTAMP:20260424T134107
LOCATION:Makerspace Sonnefeld
DESCRIPTION:Heute kann jeder sein eigenes T-Shirt individuell gestalten. Hierfür kann einerseits der Plotter genutzt werden\, durch den man verschiedene Motive anbringen kann\, als auch ganz klassisch Stoffmalfarbe.\r\n
URL;VALUE=URI:https://www.unser-ferienprogramm.de/sonnefeld/veranstaltung.php?id=318347
SUMMARY:Leseclub "T-Shirts gestalten"
DTSTART;TZID=Europe/Berlin:20260601T130000
END:VEVENT

END:VCALENDAR
