BEGIN:VCALENDAR
VERSION:2.0
PRODID:-//hacksw/handcal//NONSGML v1.0//EN
CALSCALE:GREGORIAN
BEGIN:VTIMEZONE
TZID:Europe/Berlin
X-LIC-LOCATION:Europe/Berlin
BEGIN:DAYLIGHT
TZOFFSETFROM:+0100
TZOFFSETTO:+0200
TZNAME:CEST
DTSTART:19700329T020000
RRULE:FREQ=YEARLY;BYDAY=-1SU;BYMONTH=3
END:DAYLIGHT
BEGIN:STANDARD
TZOFFSETFROM:+0200
TZOFFSETTO:+0100
TZNAME:CET
DTSTART:19701025T030000
RRULE:FREQ=YEARLY;BYDAY=-1SU;BYMONTH=10
END:STANDARD
END:VTIMEZONE
BEGIN:VEVENT
DTEND;TZID=Europe/Berlin:20260529T140000
UID:69eb5a0eae95c
DTSTAMP:20260424T135454
LOCATION:Hinternah
DESCRIPTION:Heute geht es auf den Mehrgenerationenpark nach Hinternah. Hier erwarten uns neben einem Pumptrack noch weitere Trails für Mountainbikes und BMX. Da wir mit unserem Jugendbus und einem Anhänger unterwegs sind\, könnt ihr sowohl Scooter als auch Bike einpacken. Helm ist Pflicht!\r\n\r\nKinder und Jugendliche aus den Ortsteilen werden auch dort abgeholt.\r\n\r\n\r\n
URL;VALUE=URI:https://www.unser-ferienprogramm.de/sonnefeld/veranstaltung.php?id=318343
SUMMARY:Pumptrack Tour Hinternah
DTSTART;TZID=Europe/Berlin:20260529T090000
END:VEVENT

END:VCALENDAR
