BEGIN:VCALENDAR
VERSION:2.0
PRODID:-//hacksw/handcal//NONSGML v1.0//EN
CALSCALE:GREGORIAN
BEGIN:VTIMEZONE
TZID:Europe/Berlin
X-LIC-LOCATION:Europe/Berlin
BEGIN:DAYLIGHT
TZOFFSETFROM:+0100
TZOFFSETTO:+0200
TZNAME:CEST
DTSTART:19700329T020000
RRULE:FREQ=YEARLY;BYDAY=-1SU;BYMONTH=3
END:DAYLIGHT
BEGIN:STANDARD
TZOFFSETFROM:+0200
TZOFFSETTO:+0100
TZNAME:CET
DTSTART:19701025T030000
RRULE:FREQ=YEARLY;BYDAY=-1SU;BYMONTH=10
END:STANDARD
END:VTIMEZONE
BEGIN:VEVENT
DTEND;TZID=Europe/Berlin:20260528T170000
UID:69eb59c6d5096
DTSTAMP:20260424T135342
LOCATION:Nürnberg
DESCRIPTION:Was ist eigentlich eine Eisenbahn? Wie funktioniert eine Dampflok? Wie schnell fährt ein ICE? Züge von klein bis groß! Hier erfahrt ihr die spannende Geschichte der Eisenbahn in Deutschland von den Anfängen um 1800 bis in die Gegenwart.  \r\n\r\nKinder und Jugendliche aus den Ortsteilen werden auch dort abgeholt. \r\n\r\n
URL;VALUE=URI:https://www.unser-ferienprogramm.de/sonnefeld/veranstaltung.php?id=318342
SUMMARY:DB Museum Nürnberg
DTSTART;TZID=Europe/Berlin:20260528T090000
END:VEVENT

END:VCALENDAR
