BEGIN:VCALENDAR
VERSION:2.0
PRODID:-//hacksw/handcal//NONSGML v1.0//EN
CALSCALE:GREGORIAN
BEGIN:VTIMEZONE
TZID:Europe/Berlin
X-LIC-LOCATION:Europe/Berlin
BEGIN:DAYLIGHT
TZOFFSETFROM:+0100
TZOFFSETTO:+0200
TZNAME:CEST
DTSTART:19700329T020000
RRULE:FREQ=YEARLY;BYDAY=-1SU;BYMONTH=3
END:DAYLIGHT
BEGIN:STANDARD
TZOFFSETFROM:+0200
TZOFFSETTO:+0100
TZNAME:CET
DTSTART:19701025T030000
RRULE:FREQ=YEARLY;BYDAY=-1SU;BYMONTH=10
END:STANDARD
END:VTIMEZONE
BEGIN:VEVENT
DTEND;TZID=Europe/Berlin:20260527T170000
UID:69eb562e6e8b7
DTSTAMP:20260424T133822
LOCATION:Bürgerzentrum Sonnefeld
DESCRIPTION:Heute geht es um das Thema Freundschaft und Gefühle und dabei   erwartet euch ein Tag voller Kreativität und Gemeinschaft. Wir spielen zusammen Spiele\, basteln Freundschaftsarmbänder und machen gemeinsam Pizza. Zum Abschluss schauen wir einen Film und lassen den Tag entspannt ausklingen. \r\n
URL;VALUE=URI:https://www.unser-ferienprogramm.de/sonnefeld/veranstaltung.php?id=318340
SUMMARY:Leseclub Ferienaktion "Gefühle"
DTSTART;TZID=Europe/Berlin:20260527T090000
END:VEVENT

END:VCALENDAR
