BEGIN:VCALENDAR
VERSION:2.0
PRODID:-//hacksw/handcal//NONSGML v1.0//EN
CALSCALE:GREGORIAN
BEGIN:VTIMEZONE
TZID:Europe/Berlin
X-LIC-LOCATION:Europe/Berlin
BEGIN:DAYLIGHT
TZOFFSETFROM:+0100
TZOFFSETTO:+0200
TZNAME:CEST
DTSTART:19700329T020000
RRULE:FREQ=YEARLY;BYDAY=-1SU;BYMONTH=3
END:DAYLIGHT
BEGIN:STANDARD
TZOFFSETFROM:+0200
TZOFFSETTO:+0100
TZNAME:CET
DTSTART:19701025T030000
RRULE:FREQ=YEARLY;BYDAY=-1SU;BYMONTH=10
END:STANDARD
END:VTIMEZONE
BEGIN:VEVENT
DTEND;TZID=Europe/Berlin:20260526T170000
UID:69eb566746d0b
DTSTAMP:20260424T133919
LOCATION:Zella-Mehlis
DESCRIPTION:Interessieren euch auch die Tiefen unserer Meere? Wir wollen uns ein einmaliges Haibecken ansehen\, in dem sich Leopardenhaie\, Zitronenhaie\, Ammenhaie und Sandtigerhaie befinden. Außerdem gibt es Piranhas und einen Streichelteich mit Koi-Karpfen. Krokodile warten auch darauf\, von euch bestaunt zu werden. \r\n\r\nKinder und Jugendliche aus den Ortsteilen werden auch dort abgeholt.\r\n
URL;VALUE=URI:https://www.unser-ferienprogramm.de/sonnefeld/veranstaltung.php?id=318337
SUMMARY:Meeresaquarium Zella-Mehlis
DTSTART;TZID=Europe/Berlin:20260526T090000
END:VEVENT

END:VCALENDAR
