BEGIN:VCALENDAR
VERSION:2.0
PRODID:-//hacksw/handcal//NONSGML v1.0//EN
CALSCALE:GREGORIAN
BEGIN:VTIMEZONE
TZID:Europe/Berlin
X-LIC-LOCATION:Europe/Berlin
BEGIN:DAYLIGHT
TZOFFSETFROM:+0100
TZOFFSETTO:+0200
TZNAME:CEST
DTSTART:19700329T020000
RRULE:FREQ=YEARLY;BYDAY=-1SU;BYMONTH=3
END:DAYLIGHT
BEGIN:STANDARD
TZOFFSETFROM:+0200
TZOFFSETTO:+0100
TZNAME:CET
DTSTART:19701025T030000
RRULE:FREQ=YEARLY;BYDAY=-1SU;BYMONTH=10
END:STANDARD
END:VTIMEZONE
BEGIN:VEVENT
DTEND;TZID=Europe/Berlin:20260828T170000
UID:69e60ebbaab1f
DTSTAMP:20260420T133211
LOCATION:Erfahrungsfeld SCHÖNUNDGUT\, Klaus Hoppmann Weg 1\, 57072 Siegen auf dem Fischbacherberg
DESCRIPTION:ABENTEUER: eine riskante Unternehmung mit ungewissem Ausgang. Was alles passieren wird auf dem RaBauKi sollen die Kinder selbst bestimmen können. Hütten bauen\, Schmieden\, Musik\, Lagerfeuer oder ganz was anderes. SPIEL ist nicht das Gegenteil von Arbeit! Die Hütten des RaBauKi machen das deutlich und viel spannendes Lernen kann man dabei auch. PLATZ haben wir genug. Und die Kinder sollen ihn nutzen und gestalten können\, wie es für sie richtig ist.\r\nDer Abenteuerspielplatz ist von Mo-Fr von 10-17 Uhr geöffnet. zeitliche Änderungen aufgrund von z.B. einem Eltern- und Interessierten-Nachmittag werden rechtzeitig bekannt gegeben.
URL;VALUE=URI:https://www.unser-ferienprogramm.de/siegen/veranstaltung.php?id=308452
SUMMARY:pädagogisch begleiteter Abenteuerspielplatz RaBauKi
DTSTART;TZID=Europe/Berlin:20260810T100000
END:VEVENT

END:VCALENDAR
