BEGIN:VCALENDAR
VERSION:2.0
PRODID:-//hacksw/handcal//NONSGML v1.0//EN
CALSCALE:GREGORIAN
BEGIN:VTIMEZONE
TZID:Europe/Berlin
X-LIC-LOCATION:Europe/Berlin
BEGIN:DAYLIGHT
TZOFFSETFROM:+0100
TZOFFSETTO:+0200
TZNAME:CEST
DTSTART:19700329T020000
RRULE:FREQ=YEARLY;BYDAY=-1SU;BYMONTH=3
END:DAYLIGHT
BEGIN:STANDARD
TZOFFSETFROM:+0200
TZOFFSETTO:+0100
TZNAME:CET
DTSTART:19701025T030000
RRULE:FREQ=YEARLY;BYDAY=-1SU;BYMONTH=10
END:STANDARD
END:VTIMEZONE
BEGIN:VEVENT
DTEND;TZID=Europe/Berlin:20260814T150000
UID:69e60fd72f1d1
DTSTAMP:20260420T133655
LOCATION:Kleingladenbach\, Hessen
DESCRIPTION:Ein großes Abenteuer liegt vor uns: Weite Meere\, unbekannte Gewässer und spannende Entdeckungen warten auf unsere Crew.\r\nDoch kein Schiff kann ohne eine starke Mannschaft auslaufen – genau deshalb suchen wir dich!\r\nGemeinsam trotzen wir Wind und Wellen und stellen uns den Herausforderungen des Meeres. \r\nNatürlich darf auch die gemütliche Runde am Lagerfeuer nicht fehlen – genauso wenig wie die spannenden Geschichten\, die wir von Gott hören und gemeinsam entdecken werden.\r\nPack deinen Seesack und mach dich bereit für ein Abenteuer auf hoher See\, das du so schnell nicht vergessen wirst.\r\nMelde dich schnell an und freue dich auf einen unvergesslichen Sommer voller Abenteuer und toller Gemeinschaft.\r\nWir freuen uns schon riesig auf DICH! \r\n\r\nLeistung: \r\nUnterbringung im Zelt\, Verpflegung\, komplettes Programm mit Fahrtkosten\, Freizeit-T-Shirt\, Versicherung\r\n\r\nPreis:\r\na) 235€ pro Kind – Normalpreis\r\nb) 225€ pro Kind – bei 2 teilnehmenden Kindern\r\nc) 175€ pro Kind – reduzierter Teilnehmerpreis (z.B. für Teilnehmer\r\ndie sich temporär oder langfristig in einer angespannten Situation\r\nbefinden)\r\n\r\n
URL;VALUE=URI:https://www.unser-ferienprogramm.de/siegen/veranstaltung.php?id=302398
SUMMARY:Zeltlager 2026 - Auf Hoher See
DTSTART;TZID=Europe/Berlin:20260805T100000
END:VEVENT

END:VCALENDAR
