BEGIN:VCALENDAR
VERSION:2.0
PRODID:-//hacksw/handcal//NONSGML v1.0//EN
CALSCALE:GREGORIAN
BEGIN:VTIMEZONE
TZID:Europe/Berlin
X-LIC-LOCATION:Europe/Berlin
BEGIN:DAYLIGHT
TZOFFSETFROM:+0100
TZOFFSETTO:+0200
TZNAME:CEST
DTSTART:19700329T020000
RRULE:FREQ=YEARLY;BYDAY=-1SU;BYMONTH=3
END:DAYLIGHT
BEGIN:STANDARD
TZOFFSETFROM:+0200
TZOFFSETTO:+0100
TZNAME:CET
DTSTART:19701025T030000
RRULE:FREQ=YEARLY;BYDAY=-1SU;BYMONTH=10
END:STANDARD
END:VTIMEZONE
BEGIN:VEVENT
DTEND;TZID=Europe/Berlin:20260804T130000
UID:69e60fc28ed87
DTSTAMP:20260420T133634
LOCATION:Bewegungsschule MOBIS
DESCRIPTION:Bewegung macht Spaß!\r\nLust auf Klettern\, Springen\, Balancieren und jede Menge Action?\r\n\r\nDas Kinder- und Jugendbüro besucht in den Sommerferien die Bewegungsschule MOBIS und Du kannst dabei sein. Dich erwartet eine spannende Bewegungslandschaft\, in der Du spielerisch Deine Kraft\, Geschicklichkeit und eigenen Fähigkeiten entdecken kannst.\r\n\r\nFür alle Kinder zwischen 10 - 12 Jahren (vorrangig aus dem Stadtgebiet Siegen - Anmeldungen aus dem Kreisgebiet ab dem 01.07.möglich)\, die sich gerne bewegen\, Neues ausprobieren und gemeinsam Spaß haben wollen. \r\n\r\nDa das Angebot mehrfach im Ferienspaß beworben wird und die Nachfrage sehr groß ist\, kann jedes Kind jeweils nur 1 x an der gleichen Veranstaltung teilnehmen\; Mehrfachanmeldungen sind nicht erwünscht\, um möglichst vielen verschiedenen Kindern die Teilnahme an dem Angebot zu ermöglichen. \r\nKomm vorbei und mach Deine Sommerferien richtig bewegend. \;-)\r\n\r\nBei Fragen vorab melde Dich gerne beim:\r\n\r\nKinder- und Jugendbüro\r\nLisa Chatterjee\r\n0271 / 404 - 2970\r\nl.chatterjee@siegen.de\r\n
URL;VALUE=URI:https://www.unser-ferienprogramm.de/siegen/veranstaltung.php?id=301326
SUMMARY:Bewegung macht Spaß!
DTSTART;TZID=Europe/Berlin:20260804T110000
END:VEVENT

END:VCALENDAR
